BEGIN:VCALENDAR
VERSION:2.0
PRODID:-//Harmony Beer - ECPv6.15.20//NONSGML v1.0//EN
CALSCALE:GREGORIAN
METHOD:PUBLISH
X-WR-CALNAME:Harmony Beer
X-ORIGINAL-URL:https://harmonybeer.com
X-WR-CALDESC:Events for Harmony Beer
REFRESH-INTERVAL;VALUE=DURATION:PT1H
X-Robots-Tag:noindex
X-PUBLISHED-TTL:PT1H
BEGIN:VTIMEZONE
TZID:America/Detroit
BEGIN:DAYLIGHT
TZOFFSETFROM:-0500
TZOFFSETTO:-0400
TZNAME:EDT
DTSTART:20250309T070000
END:DAYLIGHT
BEGIN:STANDARD
TZOFFSETFROM:-0400
TZOFFSETTO:-0500
TZNAME:EST
DTSTART:20251102T060000
END:STANDARD
BEGIN:DAYLIGHT
TZOFFSETFROM:-0500
TZOFFSETTO:-0400
TZNAME:EDT
DTSTART:20260308T070000
END:DAYLIGHT
BEGIN:STANDARD
TZOFFSETFROM:-0400
TZOFFSETTO:-0500
TZNAME:EST
DTSTART:20261101T060000
END:STANDARD
BEGIN:DAYLIGHT
TZOFFSETFROM:-0500
TZOFFSETTO:-0400
TZNAME:EDT
DTSTART:20270314T070000
END:DAYLIGHT
BEGIN:STANDARD
TZOFFSETFROM:-0400
TZOFFSETTO:-0500
TZNAME:EST
DTSTART:20271107T060000
END:STANDARD
END:VTIMEZONE
BEGIN:VEVENT
DTSTART;TZID=America/Detroit:20260425T210000
DTEND;TZID=America/Detroit:20260425T235900
DTSTAMP:20260425T062828
CREATED:20260401T193135Z
LAST-MODIFIED:20260401T193135Z
UID:10204518-1777150800-1777161540@harmonybeer.com
SUMMARY:Late Night Art Bar with Hot Glue Creux & DJ Lindsay Patton
DESCRIPTION:Join Harmony Brewing for our monthly Free Art Bar\, where creativity flows as freely as the drinks. Show up\, get crafty\, and make something weird and wonderful with the Hot Glue Creux. Vibe with DJ Lindsay Patton as she sets the tone\, it’s the perfect way to spend your Saturday night. \nApril 25 | 9 PM – 12 AM
URL:https://harmonybeer.com/event/late-night-art-bar-with-hot-glue-creux-dj-lindsay-patton/
CATEGORIES:Events
END:VEVENT
END:VCALENDAR