BEGIN:VCALENDAR
VERSION:2.0
PRODID:-//Harmony Beer - ECPv6.15.20//NONSGML v1.0//EN
CALSCALE:GREGORIAN
METHOD:PUBLISH
X-WR-CALNAME:Harmony Beer
X-ORIGINAL-URL:https://harmonybeer.com
X-WR-CALDESC:Events for Harmony Beer
REFRESH-INTERVAL;VALUE=DURATION:PT1H
X-Robots-Tag:noindex
X-PUBLISHED-TTL:PT1H
BEGIN:VTIMEZONE
TZID:America/Detroit
BEGIN:DAYLIGHT
TZOFFSETFROM:-0500
TZOFFSETTO:-0400
TZNAME:EDT
DTSTART:20270314T070000
END:DAYLIGHT
BEGIN:STANDARD
TZOFFSETFROM:-0400
TZOFFSETTO:-0500
TZNAME:EST
DTSTART:20271107T060000
END:STANDARD
BEGIN:DAYLIGHT
TZOFFSETFROM:-0500
TZOFFSETTO:-0400
TZNAME:EDT
DTSTART:20280312T070000
END:DAYLIGHT
BEGIN:STANDARD
TZOFFSETFROM:-0400
TZOFFSETTO:-0500
TZNAME:EST
DTSTART:20281105T060000
END:STANDARD
BEGIN:DAYLIGHT
TZOFFSETFROM:-0500
TZOFFSETTO:-0400
TZNAME:EDT
DTSTART:20290311T070000
END:DAYLIGHT
BEGIN:STANDARD
TZOFFSETFROM:-0400
TZOFFSETTO:-0500
TZNAME:EST
DTSTART:20291104T060000
END:STANDARD
END:VTIMEZONE
BEGIN:VEVENT
DTSTART;TZID=America/Detroit:20281025T190000
DTEND;TZID=America/Detroit:20281025T210000
DTSTAMP:20260422T183543
CREATED:20240624T182631Z
LAST-MODIFIED:20240624T182631Z
UID:10203866-1856113200-1856120400@harmonybeer.com
SUMMARY:Trivia Night - QuizQuest
DESCRIPTION:Trivia hosted by QuizQuest every Wednesday 7pm. Compete for Harmony Gift Cards!
URL:https://harmonybeer.com/event/trivia-night-quizquest/2028-10-25/
END:VEVENT
BEGIN:VEVENT
DTSTART;TZID=America/Detroit:20281023T190000
DTEND;TZID=America/Detroit:20281023T210000
DTSTAMP:20260422T183543
CREATED:20240624T182240Z
LAST-MODIFIED:20240624T182240Z
UID:10203605-1855940400-1855947600@harmonybeer.com
SUMMARY:Euchre Night
DESCRIPTION:Bring a partner and compete for Harmony gift cards! 7pm every Monday
URL:https://harmonybeer.com/event/euchre-night-2/2028-10-23/
END:VEVENT
BEGIN:VEVENT
DTSTART;TZID=America/Detroit:20281022T190000
DTEND;TZID=America/Detroit:20281022T210000
DTSTAMP:20260422T183543
CREATED:20240624T185540Z
LAST-MODIFIED:20240624T185540Z
UID:10204387-1855854000-1855861200@harmonybeer.com
SUMMARY:Trivia Night - Geeks Who Drink
DESCRIPTION:Trivia night with Geeks Who Drink every Sunday 7pm. Compete for Harmony Gift Cards!
URL:https://harmonybeer.com/event/trivia-night-geeks-who-drink/2028-10-22/
END:VEVENT
BEGIN:VEVENT
DTSTART;TZID=America/Detroit:20281019T190000
DTEND;TZID=America/Detroit:20281019T213000
DTSTAMP:20260422T183543
CREATED:20231206T151622Z
LAST-MODIFIED:20240528T142151Z
UID:10203347-1855594800-1855603800@harmonybeer.com
SUMMARY:Vinyl Night
DESCRIPTION:Guest Vinyl DJs every thursday 7pm
URL:https://harmonybeer.com/event/vinyl-night/2028-10-19/
END:VEVENT
BEGIN:VEVENT
DTSTART;TZID=America/Detroit:20281018T190000
DTEND;TZID=America/Detroit:20281018T210000
DTSTAMP:20260422T183543
CREATED:20240624T182631Z
LAST-MODIFIED:20240624T182631Z
UID:10203865-1855508400-1855515600@harmonybeer.com
SUMMARY:Trivia Night - QuizQuest
DESCRIPTION:Trivia hosted by QuizQuest every Wednesday 7pm. Compete for Harmony Gift Cards!
URL:https://harmonybeer.com/event/trivia-night-quizquest/2028-10-18/
END:VEVENT
BEGIN:VEVENT
DTSTART;TZID=America/Detroit:20281016T190000
DTEND;TZID=America/Detroit:20281016T210000
DTSTAMP:20260422T183543
CREATED:20240624T182240Z
LAST-MODIFIED:20240624T182240Z
UID:10203604-1855335600-1855342800@harmonybeer.com
SUMMARY:Euchre Night
DESCRIPTION:Bring a partner and compete for Harmony gift cards! 7pm every Monday
URL:https://harmonybeer.com/event/euchre-night-2/2028-10-16/
END:VEVENT
BEGIN:VEVENT
DTSTART;TZID=America/Detroit:20281015T190000
DTEND;TZID=America/Detroit:20281015T210000
DTSTAMP:20260422T183543
CREATED:20240624T185540Z
LAST-MODIFIED:20240624T185540Z
UID:10204386-1855249200-1855256400@harmonybeer.com
SUMMARY:Trivia Night - Geeks Who Drink
DESCRIPTION:Trivia night with Geeks Who Drink every Sunday 7pm. Compete for Harmony Gift Cards!
URL:https://harmonybeer.com/event/trivia-night-geeks-who-drink/2028-10-15/
END:VEVENT
BEGIN:VEVENT
DTSTART;TZID=America/Detroit:20281012T190000
DTEND;TZID=America/Detroit:20281012T213000
DTSTAMP:20260422T183543
CREATED:20231206T151622Z
LAST-MODIFIED:20240528T142151Z
UID:10203346-1854990000-1854999000@harmonybeer.com
SUMMARY:Vinyl Night
DESCRIPTION:Guest Vinyl DJs every thursday 7pm
URL:https://harmonybeer.com/event/vinyl-night/2028-10-12/
END:VEVENT
BEGIN:VEVENT
DTSTART;TZID=America/Detroit:20281011T190000
DTEND;TZID=America/Detroit:20281011T210000
DTSTAMP:20260422T183543
CREATED:20240624T182631Z
LAST-MODIFIED:20240624T182631Z
UID:10203864-1854903600-1854910800@harmonybeer.com
SUMMARY:Trivia Night - QuizQuest
DESCRIPTION:Trivia hosted by QuizQuest every Wednesday 7pm. Compete for Harmony Gift Cards!
URL:https://harmonybeer.com/event/trivia-night-quizquest/2028-10-11/
END:VEVENT
BEGIN:VEVENT
DTSTART;TZID=America/Detroit:20281009T190000
DTEND;TZID=America/Detroit:20281009T210000
DTSTAMP:20260422T183543
CREATED:20240624T182240Z
LAST-MODIFIED:20240624T182240Z
UID:10203603-1854730800-1854738000@harmonybeer.com
SUMMARY:Euchre Night
DESCRIPTION:Bring a partner and compete for Harmony gift cards! 7pm every Monday
URL:https://harmonybeer.com/event/euchre-night-2/2028-10-09/
END:VEVENT
BEGIN:VEVENT
DTSTART;TZID=America/Detroit:20281008T190000
DTEND;TZID=America/Detroit:20281008T210000
DTSTAMP:20260422T183543
CREATED:20240624T185540Z
LAST-MODIFIED:20240624T185540Z
UID:10204385-1854644400-1854651600@harmonybeer.com
SUMMARY:Trivia Night - Geeks Who Drink
DESCRIPTION:Trivia night with Geeks Who Drink every Sunday 7pm. Compete for Harmony Gift Cards!
URL:https://harmonybeer.com/event/trivia-night-geeks-who-drink/2028-10-08/
END:VEVENT
BEGIN:VEVENT
DTSTART;TZID=America/Detroit:20281005T190000
DTEND;TZID=America/Detroit:20281005T213000
DTSTAMP:20260422T183543
CREATED:20231206T151622Z
LAST-MODIFIED:20240528T142151Z
UID:10203345-1854385200-1854394200@harmonybeer.com
SUMMARY:Vinyl Night
DESCRIPTION:Guest Vinyl DJs every thursday 7pm
URL:https://harmonybeer.com/event/vinyl-night/2028-10-05/
END:VEVENT
BEGIN:VEVENT
DTSTART;TZID=America/Detroit:20281004T190000
DTEND;TZID=America/Detroit:20281004T210000
DTSTAMP:20260422T183543
CREATED:20240624T182631Z
LAST-MODIFIED:20240624T182631Z
UID:10203863-1854298800-1854306000@harmonybeer.com
SUMMARY:Trivia Night - QuizQuest
DESCRIPTION:Trivia hosted by QuizQuest every Wednesday 7pm. Compete for Harmony Gift Cards!
URL:https://harmonybeer.com/event/trivia-night-quizquest/2028-10-04/
END:VEVENT
BEGIN:VEVENT
DTSTART;TZID=America/Detroit:20281002T190000
DTEND;TZID=America/Detroit:20281002T210000
DTSTAMP:20260422T183543
CREATED:20240624T182240Z
LAST-MODIFIED:20240624T182240Z
UID:10203602-1854126000-1854133200@harmonybeer.com
SUMMARY:Euchre Night
DESCRIPTION:Bring a partner and compete for Harmony gift cards! 7pm every Monday
URL:https://harmonybeer.com/event/euchre-night-2/2028-10-02/
END:VEVENT
BEGIN:VEVENT
DTSTART;TZID=America/Detroit:20281001T190000
DTEND;TZID=America/Detroit:20281001T210000
DTSTAMP:20260422T183543
CREATED:20240624T185540Z
LAST-MODIFIED:20240624T185540Z
UID:10204384-1854039600-1854046800@harmonybeer.com
SUMMARY:Trivia Night - Geeks Who Drink
DESCRIPTION:Trivia night with Geeks Who Drink every Sunday 7pm. Compete for Harmony Gift Cards!
URL:https://harmonybeer.com/event/trivia-night-geeks-who-drink/2028-10-01/
END:VEVENT
BEGIN:VEVENT
DTSTART;TZID=America/Detroit:20280928T190000
DTEND;TZID=America/Detroit:20280928T213000
DTSTAMP:20260422T183543
CREATED:20231206T151622Z
LAST-MODIFIED:20240528T142151Z
UID:10203344-1853780400-1853789400@harmonybeer.com
SUMMARY:Vinyl Night
DESCRIPTION:Guest Vinyl DJs every thursday 7pm
URL:https://harmonybeer.com/event/vinyl-night/2028-09-28/
END:VEVENT
BEGIN:VEVENT
DTSTART;TZID=America/Detroit:20280927T190000
DTEND;TZID=America/Detroit:20280927T210000
DTSTAMP:20260422T183543
CREATED:20240624T182631Z
LAST-MODIFIED:20240624T182631Z
UID:10203862-1853694000-1853701200@harmonybeer.com
SUMMARY:Trivia Night - QuizQuest
DESCRIPTION:Trivia hosted by QuizQuest every Wednesday 7pm. Compete for Harmony Gift Cards!
URL:https://harmonybeer.com/event/trivia-night-quizquest/2028-09-27/
END:VEVENT
BEGIN:VEVENT
DTSTART;TZID=America/Detroit:20280925T190000
DTEND;TZID=America/Detroit:20280925T210000
DTSTAMP:20260422T183543
CREATED:20240624T182240Z
LAST-MODIFIED:20240624T182240Z
UID:10203601-1853521200-1853528400@harmonybeer.com
SUMMARY:Euchre Night
DESCRIPTION:Bring a partner and compete for Harmony gift cards! 7pm every Monday
URL:https://harmonybeer.com/event/euchre-night-2/2028-09-25/
END:VEVENT
BEGIN:VEVENT
DTSTART;TZID=America/Detroit:20280924T190000
DTEND;TZID=America/Detroit:20280924T210000
DTSTAMP:20260422T183543
CREATED:20240624T185540Z
LAST-MODIFIED:20240624T185540Z
UID:10204383-1853434800-1853442000@harmonybeer.com
SUMMARY:Trivia Night - Geeks Who Drink
DESCRIPTION:Trivia night with Geeks Who Drink every Sunday 7pm. Compete for Harmony Gift Cards!
URL:https://harmonybeer.com/event/trivia-night-geeks-who-drink/2028-09-24/
END:VEVENT
BEGIN:VEVENT
DTSTART;TZID=America/Detroit:20280921T190000
DTEND;TZID=America/Detroit:20280921T213000
DTSTAMP:20260422T183543
CREATED:20231206T151622Z
LAST-MODIFIED:20240528T142151Z
UID:10203343-1853175600-1853184600@harmonybeer.com
SUMMARY:Vinyl Night
DESCRIPTION:Guest Vinyl DJs every thursday 7pm
URL:https://harmonybeer.com/event/vinyl-night/2028-09-21/
END:VEVENT
BEGIN:VEVENT
DTSTART;TZID=America/Detroit:20280920T190000
DTEND;TZID=America/Detroit:20280920T210000
DTSTAMP:20260422T183543
CREATED:20240624T182631Z
LAST-MODIFIED:20240624T182631Z
UID:10203861-1853089200-1853096400@harmonybeer.com
SUMMARY:Trivia Night - QuizQuest
DESCRIPTION:Trivia hosted by QuizQuest every Wednesday 7pm. Compete for Harmony Gift Cards!
URL:https://harmonybeer.com/event/trivia-night-quizquest/2028-09-20/
END:VEVENT
BEGIN:VEVENT
DTSTART;TZID=America/Detroit:20280918T190000
DTEND;TZID=America/Detroit:20280918T210000
DTSTAMP:20260422T183543
CREATED:20240624T182240Z
LAST-MODIFIED:20240624T182240Z
UID:10203600-1852916400-1852923600@harmonybeer.com
SUMMARY:Euchre Night
DESCRIPTION:Bring a partner and compete for Harmony gift cards! 7pm every Monday
URL:https://harmonybeer.com/event/euchre-night-2/2028-09-18/
END:VEVENT
BEGIN:VEVENT
DTSTART;TZID=America/Detroit:20280917T190000
DTEND;TZID=America/Detroit:20280917T210000
DTSTAMP:20260422T183543
CREATED:20240624T185540Z
LAST-MODIFIED:20240624T185540Z
UID:10204382-1852830000-1852837200@harmonybeer.com
SUMMARY:Trivia Night - Geeks Who Drink
DESCRIPTION:Trivia night with Geeks Who Drink every Sunday 7pm. Compete for Harmony Gift Cards!
URL:https://harmonybeer.com/event/trivia-night-geeks-who-drink/2028-09-17/
END:VEVENT
BEGIN:VEVENT
DTSTART;TZID=America/Detroit:20280914T190000
DTEND;TZID=America/Detroit:20280914T213000
DTSTAMP:20260422T183543
CREATED:20231206T151622Z
LAST-MODIFIED:20240528T142151Z
UID:10203342-1852570800-1852579800@harmonybeer.com
SUMMARY:Vinyl Night
DESCRIPTION:Guest Vinyl DJs every thursday 7pm
URL:https://harmonybeer.com/event/vinyl-night/2028-09-14/
END:VEVENT
BEGIN:VEVENT
DTSTART;TZID=America/Detroit:20280913T190000
DTEND;TZID=America/Detroit:20280913T210000
DTSTAMP:20260422T183543
CREATED:20240624T182631Z
LAST-MODIFIED:20240624T182631Z
UID:10203860-1852484400-1852491600@harmonybeer.com
SUMMARY:Trivia Night - QuizQuest
DESCRIPTION:Trivia hosted by QuizQuest every Wednesday 7pm. Compete for Harmony Gift Cards!
URL:https://harmonybeer.com/event/trivia-night-quizquest/2028-09-13/
END:VEVENT
BEGIN:VEVENT
DTSTART;TZID=America/Detroit:20280911T190000
DTEND;TZID=America/Detroit:20280911T210000
DTSTAMP:20260422T183543
CREATED:20240624T182240Z
LAST-MODIFIED:20240624T182240Z
UID:10203599-1852311600-1852318800@harmonybeer.com
SUMMARY:Euchre Night
DESCRIPTION:Bring a partner and compete for Harmony gift cards! 7pm every Monday
URL:https://harmonybeer.com/event/euchre-night-2/2028-09-11/
END:VEVENT
BEGIN:VEVENT
DTSTART;TZID=America/Detroit:20280910T190000
DTEND;TZID=America/Detroit:20280910T210000
DTSTAMP:20260422T183543
CREATED:20240624T185540Z
LAST-MODIFIED:20240624T185540Z
UID:10204381-1852225200-1852232400@harmonybeer.com
SUMMARY:Trivia Night - Geeks Who Drink
DESCRIPTION:Trivia night with Geeks Who Drink every Sunday 7pm. Compete for Harmony Gift Cards!
URL:https://harmonybeer.com/event/trivia-night-geeks-who-drink/2028-09-10/
END:VEVENT
BEGIN:VEVENT
DTSTART;TZID=America/Detroit:20280907T190000
DTEND;TZID=America/Detroit:20280907T213000
DTSTAMP:20260422T183543
CREATED:20231206T151622Z
LAST-MODIFIED:20240528T142151Z
UID:10203341-1851966000-1851975000@harmonybeer.com
SUMMARY:Vinyl Night
DESCRIPTION:Guest Vinyl DJs every thursday 7pm
URL:https://harmonybeer.com/event/vinyl-night/2028-09-07/
END:VEVENT
BEGIN:VEVENT
DTSTART;TZID=America/Detroit:20280906T190000
DTEND;TZID=America/Detroit:20280906T210000
DTSTAMP:20260422T183543
CREATED:20240624T182631Z
LAST-MODIFIED:20240624T182631Z
UID:10203859-1851879600-1851886800@harmonybeer.com
SUMMARY:Trivia Night - QuizQuest
DESCRIPTION:Trivia hosted by QuizQuest every Wednesday 7pm. Compete for Harmony Gift Cards!
URL:https://harmonybeer.com/event/trivia-night-quizquest/2028-09-06/
END:VEVENT
BEGIN:VEVENT
DTSTART;TZID=America/Detroit:20280904T190000
DTEND;TZID=America/Detroit:20280904T210000
DTSTAMP:20260422T183543
CREATED:20240624T182240Z
LAST-MODIFIED:20240624T182240Z
UID:10203598-1851706800-1851714000@harmonybeer.com
SUMMARY:Euchre Night
DESCRIPTION:Bring a partner and compete for Harmony gift cards! 7pm every Monday
URL:https://harmonybeer.com/event/euchre-night-2/2028-09-04/
END:VEVENT
END:VCALENDAR