BEGIN:VCALENDAR
VERSION:2.0
PRODID:-//Harmony Beer - ECPv6.15.20//NONSGML v1.0//EN
CALSCALE:GREGORIAN
METHOD:PUBLISH
X-WR-CALNAME:Harmony Beer
X-ORIGINAL-URL:https://harmonybeer.com
X-WR-CALDESC:Events for Harmony Beer
REFRESH-INTERVAL;VALUE=DURATION:PT1H
X-Robots-Tag:noindex
X-PUBLISHED-TTL:PT1H
BEGIN:VTIMEZONE
TZID:America/Detroit
BEGIN:DAYLIGHT
TZOFFSETFROM:-0500
TZOFFSETTO:-0400
TZNAME:EDT
DTSTART:20260308T070000
END:DAYLIGHT
BEGIN:STANDARD
TZOFFSETFROM:-0400
TZOFFSETTO:-0500
TZNAME:EST
DTSTART:20261101T060000
END:STANDARD
BEGIN:DAYLIGHT
TZOFFSETFROM:-0500
TZOFFSETTO:-0400
TZNAME:EDT
DTSTART:20270314T070000
END:DAYLIGHT
BEGIN:STANDARD
TZOFFSETFROM:-0400
TZOFFSETTO:-0500
TZNAME:EST
DTSTART:20271107T060000
END:STANDARD
BEGIN:DAYLIGHT
TZOFFSETFROM:-0500
TZOFFSETTO:-0400
TZNAME:EDT
DTSTART:20280312T070000
END:DAYLIGHT
BEGIN:STANDARD
TZOFFSETFROM:-0400
TZOFFSETTO:-0500
TZNAME:EST
DTSTART:20281105T060000
END:STANDARD
END:VTIMEZONE
BEGIN:VEVENT
DTSTART;TZID=America/Detroit:20270901T190000
DTEND;TZID=America/Detroit:20270901T210000
DTSTAMP:20260421T192502
CREATED:20240624T182631Z
LAST-MODIFIED:20240624T182631Z
UID:10203806-1819825200-1819832400@harmonybeer.com
SUMMARY:Trivia Night - QuizQuest
DESCRIPTION:Trivia hosted by QuizQuest every Wednesday 7pm. Compete for Harmony Gift Cards!
URL:https://harmonybeer.com/event/trivia-night-quizquest/2027-09-01/
END:VEVENT
BEGIN:VEVENT
DTSTART;TZID=America/Detroit:20270902T190000
DTEND;TZID=America/Detroit:20270902T213000
DTSTAMP:20260421T192502
CREATED:20231206T151622Z
LAST-MODIFIED:20240528T142151Z
UID:10203288-1819911600-1819920600@harmonybeer.com
SUMMARY:Vinyl Night
DESCRIPTION:Guest Vinyl DJs every thursday 7pm
URL:https://harmonybeer.com/event/vinyl-night/2027-09-02/
END:VEVENT
BEGIN:VEVENT
DTSTART;TZID=America/Detroit:20270905T190000
DTEND;TZID=America/Detroit:20270905T210000
DTSTAMP:20260421T192502
CREATED:20240624T185540Z
LAST-MODIFIED:20240624T185540Z
UID:10204328-1820170800-1820178000@harmonybeer.com
SUMMARY:Trivia Night - Geeks Who Drink
DESCRIPTION:Trivia night with Geeks Who Drink every Sunday 7pm. Compete for Harmony Gift Cards!
URL:https://harmonybeer.com/event/trivia-night-geeks-who-drink/2027-09-05/
END:VEVENT
BEGIN:VEVENT
DTSTART;TZID=America/Detroit:20270906T190000
DTEND;TZID=America/Detroit:20270906T210000
DTSTAMP:20260421T192502
CREATED:20240624T182240Z
LAST-MODIFIED:20240624T182240Z
UID:10203546-1820257200-1820264400@harmonybeer.com
SUMMARY:Euchre Night
DESCRIPTION:Bring a partner and compete for Harmony gift cards! 7pm every Monday
URL:https://harmonybeer.com/event/euchre-night-2/2027-09-06/
END:VEVENT
BEGIN:VEVENT
DTSTART;TZID=America/Detroit:20270908T190000
DTEND;TZID=America/Detroit:20270908T210000
DTSTAMP:20260421T192502
CREATED:20240624T182631Z
LAST-MODIFIED:20240624T182631Z
UID:10203807-1820430000-1820437200@harmonybeer.com
SUMMARY:Trivia Night - QuizQuest
DESCRIPTION:Trivia hosted by QuizQuest every Wednesday 7pm. Compete for Harmony Gift Cards!
URL:https://harmonybeer.com/event/trivia-night-quizquest/2027-09-08/
END:VEVENT
BEGIN:VEVENT
DTSTART;TZID=America/Detroit:20270909T190000
DTEND;TZID=America/Detroit:20270909T213000
DTSTAMP:20260421T192502
CREATED:20231206T151622Z
LAST-MODIFIED:20240528T142151Z
UID:10203289-1820516400-1820525400@harmonybeer.com
SUMMARY:Vinyl Night
DESCRIPTION:Guest Vinyl DJs every thursday 7pm
URL:https://harmonybeer.com/event/vinyl-night/2027-09-09/
END:VEVENT
BEGIN:VEVENT
DTSTART;TZID=America/Detroit:20270912T190000
DTEND;TZID=America/Detroit:20270912T210000
DTSTAMP:20260421T192502
CREATED:20240624T185540Z
LAST-MODIFIED:20240624T185540Z
UID:10204329-1820775600-1820782800@harmonybeer.com
SUMMARY:Trivia Night - Geeks Who Drink
DESCRIPTION:Trivia night with Geeks Who Drink every Sunday 7pm. Compete for Harmony Gift Cards!
URL:https://harmonybeer.com/event/trivia-night-geeks-who-drink/2027-09-12/
END:VEVENT
BEGIN:VEVENT
DTSTART;TZID=America/Detroit:20270913T190000
DTEND;TZID=America/Detroit:20270913T210000
DTSTAMP:20260421T192502
CREATED:20240624T182240Z
LAST-MODIFIED:20240624T182240Z
UID:10203547-1820862000-1820869200@harmonybeer.com
SUMMARY:Euchre Night
DESCRIPTION:Bring a partner and compete for Harmony gift cards! 7pm every Monday
URL:https://harmonybeer.com/event/euchre-night-2/2027-09-13/
END:VEVENT
BEGIN:VEVENT
DTSTART;TZID=America/Detroit:20270915T190000
DTEND;TZID=America/Detroit:20270915T210000
DTSTAMP:20260421T192502
CREATED:20240624T182631Z
LAST-MODIFIED:20240624T182631Z
UID:10203808-1821034800-1821042000@harmonybeer.com
SUMMARY:Trivia Night - QuizQuest
DESCRIPTION:Trivia hosted by QuizQuest every Wednesday 7pm. Compete for Harmony Gift Cards!
URL:https://harmonybeer.com/event/trivia-night-quizquest/2027-09-15/
END:VEVENT
BEGIN:VEVENT
DTSTART;TZID=America/Detroit:20270916T190000
DTEND;TZID=America/Detroit:20270916T213000
DTSTAMP:20260421T192502
CREATED:20231206T151622Z
LAST-MODIFIED:20240528T142151Z
UID:10203290-1821121200-1821130200@harmonybeer.com
SUMMARY:Vinyl Night
DESCRIPTION:Guest Vinyl DJs every thursday 7pm
URL:https://harmonybeer.com/event/vinyl-night/2027-09-16/
END:VEVENT
BEGIN:VEVENT
DTSTART;TZID=America/Detroit:20270919T190000
DTEND;TZID=America/Detroit:20270919T210000
DTSTAMP:20260421T192502
CREATED:20240624T185540Z
LAST-MODIFIED:20240624T185540Z
UID:10204330-1821380400-1821387600@harmonybeer.com
SUMMARY:Trivia Night - Geeks Who Drink
DESCRIPTION:Trivia night with Geeks Who Drink every Sunday 7pm. Compete for Harmony Gift Cards!
URL:https://harmonybeer.com/event/trivia-night-geeks-who-drink/2027-09-19/
END:VEVENT
BEGIN:VEVENT
DTSTART;TZID=America/Detroit:20270920T190000
DTEND;TZID=America/Detroit:20270920T210000
DTSTAMP:20260421T192502
CREATED:20240624T182240Z
LAST-MODIFIED:20240624T182240Z
UID:10203548-1821466800-1821474000@harmonybeer.com
SUMMARY:Euchre Night
DESCRIPTION:Bring a partner and compete for Harmony gift cards! 7pm every Monday
URL:https://harmonybeer.com/event/euchre-night-2/2027-09-20/
END:VEVENT
BEGIN:VEVENT
DTSTART;TZID=America/Detroit:20270922T190000
DTEND;TZID=America/Detroit:20270922T210000
DTSTAMP:20260421T192502
CREATED:20240624T182631Z
LAST-MODIFIED:20240624T182631Z
UID:10203809-1821639600-1821646800@harmonybeer.com
SUMMARY:Trivia Night - QuizQuest
DESCRIPTION:Trivia hosted by QuizQuest every Wednesday 7pm. Compete for Harmony Gift Cards!
URL:https://harmonybeer.com/event/trivia-night-quizquest/2027-09-22/
END:VEVENT
BEGIN:VEVENT
DTSTART;TZID=America/Detroit:20270923T190000
DTEND;TZID=America/Detroit:20270923T213000
DTSTAMP:20260421T192502
CREATED:20231206T151622Z
LAST-MODIFIED:20240528T142151Z
UID:10203291-1821726000-1821735000@harmonybeer.com
SUMMARY:Vinyl Night
DESCRIPTION:Guest Vinyl DJs every thursday 7pm
URL:https://harmonybeer.com/event/vinyl-night/2027-09-23/
END:VEVENT
BEGIN:VEVENT
DTSTART;TZID=America/Detroit:20270926T190000
DTEND;TZID=America/Detroit:20270926T210000
DTSTAMP:20260421T192502
CREATED:20240624T185540Z
LAST-MODIFIED:20240624T185540Z
UID:10204331-1821985200-1821992400@harmonybeer.com
SUMMARY:Trivia Night - Geeks Who Drink
DESCRIPTION:Trivia night with Geeks Who Drink every Sunday 7pm. Compete for Harmony Gift Cards!
URL:https://harmonybeer.com/event/trivia-night-geeks-who-drink/2027-09-26/
END:VEVENT
BEGIN:VEVENT
DTSTART;TZID=America/Detroit:20270927T190000
DTEND;TZID=America/Detroit:20270927T210000
DTSTAMP:20260421T192502
CREATED:20240624T182240Z
LAST-MODIFIED:20240624T182240Z
UID:10203549-1822071600-1822078800@harmonybeer.com
SUMMARY:Euchre Night
DESCRIPTION:Bring a partner and compete for Harmony gift cards! 7pm every Monday
URL:https://harmonybeer.com/event/euchre-night-2/2027-09-27/
END:VEVENT
BEGIN:VEVENT
DTSTART;TZID=America/Detroit:20270929T190000
DTEND;TZID=America/Detroit:20270929T210000
DTSTAMP:20260421T192502
CREATED:20240624T182631Z
LAST-MODIFIED:20240624T182631Z
UID:10203810-1822244400-1822251600@harmonybeer.com
SUMMARY:Trivia Night - QuizQuest
DESCRIPTION:Trivia hosted by QuizQuest every Wednesday 7pm. Compete for Harmony Gift Cards!
URL:https://harmonybeer.com/event/trivia-night-quizquest/2027-09-29/
END:VEVENT
BEGIN:VEVENT
DTSTART;TZID=America/Detroit:20270930T190000
DTEND;TZID=America/Detroit:20270930T213000
DTSTAMP:20260421T192502
CREATED:20231206T151622Z
LAST-MODIFIED:20240528T142151Z
UID:10203292-1822330800-1822339800@harmonybeer.com
SUMMARY:Vinyl Night
DESCRIPTION:Guest Vinyl DJs every thursday 7pm
URL:https://harmonybeer.com/event/vinyl-night/2027-09-30/
END:VEVENT
BEGIN:VEVENT
DTSTART;TZID=America/Detroit:20271003T190000
DTEND;TZID=America/Detroit:20271003T210000
DTSTAMP:20260421T192502
CREATED:20240624T185540Z
LAST-MODIFIED:20240624T185540Z
UID:10204332-1822590000-1822597200@harmonybeer.com
SUMMARY:Trivia Night - Geeks Who Drink
DESCRIPTION:Trivia night with Geeks Who Drink every Sunday 7pm. Compete for Harmony Gift Cards!
URL:https://harmonybeer.com/event/trivia-night-geeks-who-drink/2027-10-03/
END:VEVENT
BEGIN:VEVENT
DTSTART;TZID=America/Detroit:20271004T190000
DTEND;TZID=America/Detroit:20271004T210000
DTSTAMP:20260421T192502
CREATED:20240624T182240Z
LAST-MODIFIED:20240624T182240Z
UID:10203550-1822676400-1822683600@harmonybeer.com
SUMMARY:Euchre Night
DESCRIPTION:Bring a partner and compete for Harmony gift cards! 7pm every Monday
URL:https://harmonybeer.com/event/euchre-night-2/2027-10-04/
END:VEVENT
BEGIN:VEVENT
DTSTART;TZID=America/Detroit:20271006T190000
DTEND;TZID=America/Detroit:20271006T210000
DTSTAMP:20260421T192502
CREATED:20240624T182631Z
LAST-MODIFIED:20240624T182631Z
UID:10203811-1822849200-1822856400@harmonybeer.com
SUMMARY:Trivia Night - QuizQuest
DESCRIPTION:Trivia hosted by QuizQuest every Wednesday 7pm. Compete for Harmony Gift Cards!
URL:https://harmonybeer.com/event/trivia-night-quizquest/2027-10-06/
END:VEVENT
BEGIN:VEVENT
DTSTART;TZID=America/Detroit:20271007T190000
DTEND;TZID=America/Detroit:20271007T213000
DTSTAMP:20260421T192502
CREATED:20231206T151622Z
LAST-MODIFIED:20240528T142151Z
UID:10203293-1822935600-1822944600@harmonybeer.com
SUMMARY:Vinyl Night
DESCRIPTION:Guest Vinyl DJs every thursday 7pm
URL:https://harmonybeer.com/event/vinyl-night/2027-10-07/
END:VEVENT
BEGIN:VEVENT
DTSTART;TZID=America/Detroit:20271010T190000
DTEND;TZID=America/Detroit:20271010T210000
DTSTAMP:20260421T192502
CREATED:20240624T185540Z
LAST-MODIFIED:20240624T185540Z
UID:10204333-1823194800-1823202000@harmonybeer.com
SUMMARY:Trivia Night - Geeks Who Drink
DESCRIPTION:Trivia night with Geeks Who Drink every Sunday 7pm. Compete for Harmony Gift Cards!
URL:https://harmonybeer.com/event/trivia-night-geeks-who-drink/2027-10-10/
END:VEVENT
BEGIN:VEVENT
DTSTART;TZID=America/Detroit:20271011T190000
DTEND;TZID=America/Detroit:20271011T210000
DTSTAMP:20260421T192502
CREATED:20240624T182240Z
LAST-MODIFIED:20240624T182240Z
UID:10203551-1823281200-1823288400@harmonybeer.com
SUMMARY:Euchre Night
DESCRIPTION:Bring a partner and compete for Harmony gift cards! 7pm every Monday
URL:https://harmonybeer.com/event/euchre-night-2/2027-10-11/
END:VEVENT
BEGIN:VEVENT
DTSTART;TZID=America/Detroit:20271013T190000
DTEND;TZID=America/Detroit:20271013T210000
DTSTAMP:20260421T192502
CREATED:20240624T182631Z
LAST-MODIFIED:20240624T182631Z
UID:10203812-1823454000-1823461200@harmonybeer.com
SUMMARY:Trivia Night - QuizQuest
DESCRIPTION:Trivia hosted by QuizQuest every Wednesday 7pm. Compete for Harmony Gift Cards!
URL:https://harmonybeer.com/event/trivia-night-quizquest/2027-10-13/
END:VEVENT
BEGIN:VEVENT
DTSTART;TZID=America/Detroit:20271014T190000
DTEND;TZID=America/Detroit:20271014T213000
DTSTAMP:20260421T192502
CREATED:20231206T151622Z
LAST-MODIFIED:20240528T142151Z
UID:10203294-1823540400-1823549400@harmonybeer.com
SUMMARY:Vinyl Night
DESCRIPTION:Guest Vinyl DJs every thursday 7pm
URL:https://harmonybeer.com/event/vinyl-night/2027-10-14/
END:VEVENT
BEGIN:VEVENT
DTSTART;TZID=America/Detroit:20271017T190000
DTEND;TZID=America/Detroit:20271017T210000
DTSTAMP:20260421T192502
CREATED:20240624T185540Z
LAST-MODIFIED:20240624T185540Z
UID:10204334-1823799600-1823806800@harmonybeer.com
SUMMARY:Trivia Night - Geeks Who Drink
DESCRIPTION:Trivia night with Geeks Who Drink every Sunday 7pm. Compete for Harmony Gift Cards!
URL:https://harmonybeer.com/event/trivia-night-geeks-who-drink/2027-10-17/
END:VEVENT
BEGIN:VEVENT
DTSTART;TZID=America/Detroit:20271018T190000
DTEND;TZID=America/Detroit:20271018T210000
DTSTAMP:20260421T192502
CREATED:20240624T182240Z
LAST-MODIFIED:20240624T182240Z
UID:10203552-1823886000-1823893200@harmonybeer.com
SUMMARY:Euchre Night
DESCRIPTION:Bring a partner and compete for Harmony gift cards! 7pm every Monday
URL:https://harmonybeer.com/event/euchre-night-2/2027-10-18/
END:VEVENT
BEGIN:VEVENT
DTSTART;TZID=America/Detroit:20271020T190000
DTEND;TZID=America/Detroit:20271020T210000
DTSTAMP:20260421T192502
CREATED:20240624T182631Z
LAST-MODIFIED:20240624T182631Z
UID:10203813-1824058800-1824066000@harmonybeer.com
SUMMARY:Trivia Night - QuizQuest
DESCRIPTION:Trivia hosted by QuizQuest every Wednesday 7pm. Compete for Harmony Gift Cards!
URL:https://harmonybeer.com/event/trivia-night-quizquest/2027-10-20/
END:VEVENT
BEGIN:VEVENT
DTSTART;TZID=America/Detroit:20271021T190000
DTEND;TZID=America/Detroit:20271021T213000
DTSTAMP:20260421T192502
CREATED:20231206T151622Z
LAST-MODIFIED:20240528T142151Z
UID:10203295-1824145200-1824154200@harmonybeer.com
SUMMARY:Vinyl Night
DESCRIPTION:Guest Vinyl DJs every thursday 7pm
URL:https://harmonybeer.com/event/vinyl-night/2027-10-21/
END:VEVENT
END:VCALENDAR