BEGIN:VCALENDAR
VERSION:2.0
PRODID:-//Harmony Beer - ECPv6.15.20//NONSGML v1.0//EN
CALSCALE:GREGORIAN
METHOD:PUBLISH
X-ORIGINAL-URL:https://harmonybeer.com
X-WR-CALDESC:Events for Harmony Beer
REFRESH-INTERVAL;VALUE=DURATION:PT1H
X-Robots-Tag:noindex
X-PUBLISHED-TTL:PT1H
BEGIN:VTIMEZONE
TZID:America/Detroit
BEGIN:DAYLIGHT
TZOFFSETFROM:-0500
TZOFFSETTO:-0400
TZNAME:EDT
DTSTART:20270314T070000
END:DAYLIGHT
BEGIN:STANDARD
TZOFFSETFROM:-0400
TZOFFSETTO:-0500
TZNAME:EST
DTSTART:20271107T060000
END:STANDARD
BEGIN:DAYLIGHT
TZOFFSETFROM:-0500
TZOFFSETTO:-0400
TZNAME:EDT
DTSTART:20280312T070000
END:DAYLIGHT
BEGIN:STANDARD
TZOFFSETFROM:-0400
TZOFFSETTO:-0500
TZNAME:EST
DTSTART:20281105T060000
END:STANDARD
BEGIN:DAYLIGHT
TZOFFSETFROM:-0500
TZOFFSETTO:-0400
TZNAME:EDT
DTSTART:20290311T070000
END:DAYLIGHT
BEGIN:STANDARD
TZOFFSETFROM:-0400
TZOFFSETTO:-0500
TZNAME:EST
DTSTART:20291104T060000
END:STANDARD
END:VTIMEZONE
BEGIN:VEVENT
DTSTART;TZID=America/Detroit:20280503T190000
DTEND;TZID=America/Detroit:20280503T210000
DTSTAMP:20260422T185955
CREATED:20240624T182631Z
LAST-MODIFIED:20240624T182631Z
UID:10203841-1840993200-1841000400@harmonybeer.com
SUMMARY:Trivia Night - QuizQuest
DESCRIPTION:Trivia hosted by QuizQuest every Wednesday 7pm. Compete for Harmony Gift Cards!
URL:https://harmonybeer.com/event/trivia-night-quizquest/2028-05-03/
END:VEVENT
BEGIN:VEVENT
DTSTART;TZID=America/Detroit:20280504T190000
DTEND;TZID=America/Detroit:20280504T213000
DTSTAMP:20260422T185955
CREATED:20231206T151622Z
LAST-MODIFIED:20240528T142151Z
UID:10203323-1841079600-1841088600@harmonybeer.com
SUMMARY:Vinyl Night
DESCRIPTION:Guest Vinyl DJs every thursday 7pm
URL:https://harmonybeer.com/event/vinyl-night/2028-05-04/
END:VEVENT
BEGIN:VEVENT
DTSTART;TZID=America/Detroit:20280507T190000
DTEND;TZID=America/Detroit:20280507T210000
DTSTAMP:20260422T185955
CREATED:20240624T185540Z
LAST-MODIFIED:20240624T185540Z
UID:10204363-1841338800-1841346000@harmonybeer.com
SUMMARY:Trivia Night - Geeks Who Drink
DESCRIPTION:Trivia night with Geeks Who Drink every Sunday 7pm. Compete for Harmony Gift Cards!
URL:https://harmonybeer.com/event/trivia-night-geeks-who-drink/2028-05-07/
END:VEVENT
BEGIN:VEVENT
DTSTART;TZID=America/Detroit:20280508T190000
DTEND;TZID=America/Detroit:20280508T210000
DTSTAMP:20260422T185955
CREATED:20240624T182240Z
LAST-MODIFIED:20240624T182240Z
UID:10203581-1841425200-1841432400@harmonybeer.com
SUMMARY:Euchre Night
DESCRIPTION:Bring a partner and compete for Harmony gift cards! 7pm every Monday
URL:https://harmonybeer.com/event/euchre-night-2/2028-05-08/
END:VEVENT
BEGIN:VEVENT
DTSTART;TZID=America/Detroit:20280510T190000
DTEND;TZID=America/Detroit:20280510T210000
DTSTAMP:20260422T185955
CREATED:20240624T182631Z
LAST-MODIFIED:20240624T182631Z
UID:10203842-1841598000-1841605200@harmonybeer.com
SUMMARY:Trivia Night - QuizQuest
DESCRIPTION:Trivia hosted by QuizQuest every Wednesday 7pm. Compete for Harmony Gift Cards!
URL:https://harmonybeer.com/event/trivia-night-quizquest/2028-05-10/
END:VEVENT
BEGIN:VEVENT
DTSTART;TZID=America/Detroit:20280511T190000
DTEND;TZID=America/Detroit:20280511T213000
DTSTAMP:20260422T185955
CREATED:20231206T151622Z
LAST-MODIFIED:20240528T142151Z
UID:10203324-1841684400-1841693400@harmonybeer.com
SUMMARY:Vinyl Night
DESCRIPTION:Guest Vinyl DJs every thursday 7pm
URL:https://harmonybeer.com/event/vinyl-night/2028-05-11/
END:VEVENT
BEGIN:VEVENT
DTSTART;TZID=America/Detroit:20280514T190000
DTEND;TZID=America/Detroit:20280514T210000
DTSTAMP:20260422T185955
CREATED:20240624T185540Z
LAST-MODIFIED:20240624T185540Z
UID:10204364-1841943600-1841950800@harmonybeer.com
SUMMARY:Trivia Night - Geeks Who Drink
DESCRIPTION:Trivia night with Geeks Who Drink every Sunday 7pm. Compete for Harmony Gift Cards!
URL:https://harmonybeer.com/event/trivia-night-geeks-who-drink/2028-05-14/
END:VEVENT
BEGIN:VEVENT
DTSTART;TZID=America/Detroit:20280515T190000
DTEND;TZID=America/Detroit:20280515T210000
DTSTAMP:20260422T185955
CREATED:20240624T182240Z
LAST-MODIFIED:20240624T182240Z
UID:10203582-1842030000-1842037200@harmonybeer.com
SUMMARY:Euchre Night
DESCRIPTION:Bring a partner and compete for Harmony gift cards! 7pm every Monday
URL:https://harmonybeer.com/event/euchre-night-2/2028-05-15/
END:VEVENT
BEGIN:VEVENT
DTSTART;TZID=America/Detroit:20280517T190000
DTEND;TZID=America/Detroit:20280517T210000
DTSTAMP:20260422T185955
CREATED:20240624T182631Z
LAST-MODIFIED:20240624T182631Z
UID:10203843-1842202800-1842210000@harmonybeer.com
SUMMARY:Trivia Night - QuizQuest
DESCRIPTION:Trivia hosted by QuizQuest every Wednesday 7pm. Compete for Harmony Gift Cards!
URL:https://harmonybeer.com/event/trivia-night-quizquest/2028-05-17/
END:VEVENT
BEGIN:VEVENT
DTSTART;TZID=America/Detroit:20280518T190000
DTEND;TZID=America/Detroit:20280518T213000
DTSTAMP:20260422T185955
CREATED:20231206T151622Z
LAST-MODIFIED:20240528T142151Z
UID:10203325-1842289200-1842298200@harmonybeer.com
SUMMARY:Vinyl Night
DESCRIPTION:Guest Vinyl DJs every thursday 7pm
URL:https://harmonybeer.com/event/vinyl-night/2028-05-18/
END:VEVENT
BEGIN:VEVENT
DTSTART;TZID=America/Detroit:20280521T190000
DTEND;TZID=America/Detroit:20280521T210000
DTSTAMP:20260422T185955
CREATED:20240624T185540Z
LAST-MODIFIED:20240624T185540Z
UID:10204365-1842548400-1842555600@harmonybeer.com
SUMMARY:Trivia Night - Geeks Who Drink
DESCRIPTION:Trivia night with Geeks Who Drink every Sunday 7pm. Compete for Harmony Gift Cards!
URL:https://harmonybeer.com/event/trivia-night-geeks-who-drink/2028-05-21/
END:VEVENT
BEGIN:VEVENT
DTSTART;TZID=America/Detroit:20280522T190000
DTEND;TZID=America/Detroit:20280522T210000
DTSTAMP:20260422T185955
CREATED:20240624T182240Z
LAST-MODIFIED:20240624T182240Z
UID:10203583-1842634800-1842642000@harmonybeer.com
SUMMARY:Euchre Night
DESCRIPTION:Bring a partner and compete for Harmony gift cards! 7pm every Monday
URL:https://harmonybeer.com/event/euchre-night-2/2028-05-22/
END:VEVENT
BEGIN:VEVENT
DTSTART;TZID=America/Detroit:20280524T190000
DTEND;TZID=America/Detroit:20280524T210000
DTSTAMP:20260422T185955
CREATED:20240624T182631Z
LAST-MODIFIED:20240624T182631Z
UID:10203844-1842807600-1842814800@harmonybeer.com
SUMMARY:Trivia Night - QuizQuest
DESCRIPTION:Trivia hosted by QuizQuest every Wednesday 7pm. Compete for Harmony Gift Cards!
URL:https://harmonybeer.com/event/trivia-night-quizquest/2028-05-24/
END:VEVENT
BEGIN:VEVENT
DTSTART;TZID=America/Detroit:20280525T190000
DTEND;TZID=America/Detroit:20280525T213000
DTSTAMP:20260422T185955
CREATED:20231206T151622Z
LAST-MODIFIED:20240528T142151Z
UID:10203326-1842894000-1842903000@harmonybeer.com
SUMMARY:Vinyl Night
DESCRIPTION:Guest Vinyl DJs every thursday 7pm
URL:https://harmonybeer.com/event/vinyl-night/2028-05-25/
END:VEVENT
BEGIN:VEVENT
DTSTART;TZID=America/Detroit:20280528T190000
DTEND;TZID=America/Detroit:20280528T210000
DTSTAMP:20260422T185955
CREATED:20240624T185540Z
LAST-MODIFIED:20240624T185540Z
UID:10204366-1843153200-1843160400@harmonybeer.com
SUMMARY:Trivia Night - Geeks Who Drink
DESCRIPTION:Trivia night with Geeks Who Drink every Sunday 7pm. Compete for Harmony Gift Cards!
URL:https://harmonybeer.com/event/trivia-night-geeks-who-drink/2028-05-28/
END:VEVENT
BEGIN:VEVENT
DTSTART;TZID=America/Detroit:20280529T190000
DTEND;TZID=America/Detroit:20280529T210000
DTSTAMP:20260422T185955
CREATED:20240624T182240Z
LAST-MODIFIED:20240624T182240Z
UID:10203584-1843239600-1843246800@harmonybeer.com
SUMMARY:Euchre Night
DESCRIPTION:Bring a partner and compete for Harmony gift cards! 7pm every Monday
URL:https://harmonybeer.com/event/euchre-night-2/2028-05-29/
END:VEVENT
BEGIN:VEVENT
DTSTART;TZID=America/Detroit:20280531T190000
DTEND;TZID=America/Detroit:20280531T210000
DTSTAMP:20260422T185955
CREATED:20240624T182631Z
LAST-MODIFIED:20240624T182631Z
UID:10203845-1843412400-1843419600@harmonybeer.com
SUMMARY:Trivia Night - QuizQuest
DESCRIPTION:Trivia hosted by QuizQuest every Wednesday 7pm. Compete for Harmony Gift Cards!
URL:https://harmonybeer.com/event/trivia-night-quizquest/2028-05-31/
END:VEVENT
BEGIN:VEVENT
DTSTART;TZID=America/Detroit:20280601T190000
DTEND;TZID=America/Detroit:20280601T213000
DTSTAMP:20260422T185955
CREATED:20231206T151622Z
LAST-MODIFIED:20240528T142151Z
UID:10203327-1843498800-1843507800@harmonybeer.com
SUMMARY:Vinyl Night
DESCRIPTION:Guest Vinyl DJs every thursday 7pm
URL:https://harmonybeer.com/event/vinyl-night/2028-06-01/
END:VEVENT
BEGIN:VEVENT
DTSTART;TZID=America/Detroit:20280604T190000
DTEND;TZID=America/Detroit:20280604T210000
DTSTAMP:20260422T185955
CREATED:20240624T185540Z
LAST-MODIFIED:20240624T185540Z
UID:10204367-1843758000-1843765200@harmonybeer.com
SUMMARY:Trivia Night - Geeks Who Drink
DESCRIPTION:Trivia night with Geeks Who Drink every Sunday 7pm. Compete for Harmony Gift Cards!
URL:https://harmonybeer.com/event/trivia-night-geeks-who-drink/2028-06-04/
END:VEVENT
BEGIN:VEVENT
DTSTART;TZID=America/Detroit:20280605T190000
DTEND;TZID=America/Detroit:20280605T210000
DTSTAMP:20260422T185955
CREATED:20240624T182240Z
LAST-MODIFIED:20240624T182240Z
UID:10203585-1843844400-1843851600@harmonybeer.com
SUMMARY:Euchre Night
DESCRIPTION:Bring a partner and compete for Harmony gift cards! 7pm every Monday
URL:https://harmonybeer.com/event/euchre-night-2/2028-06-05/
END:VEVENT
BEGIN:VEVENT
DTSTART;TZID=America/Detroit:20280607T190000
DTEND;TZID=America/Detroit:20280607T210000
DTSTAMP:20260422T185955
CREATED:20240624T182631Z
LAST-MODIFIED:20240624T182631Z
UID:10203846-1844017200-1844024400@harmonybeer.com
SUMMARY:Trivia Night - QuizQuest
DESCRIPTION:Trivia hosted by QuizQuest every Wednesday 7pm. Compete for Harmony Gift Cards!
URL:https://harmonybeer.com/event/trivia-night-quizquest/2028-06-07/
END:VEVENT
BEGIN:VEVENT
DTSTART;TZID=America/Detroit:20280608T190000
DTEND;TZID=America/Detroit:20280608T213000
DTSTAMP:20260422T185955
CREATED:20231206T151622Z
LAST-MODIFIED:20240528T142151Z
UID:10203328-1844103600-1844112600@harmonybeer.com
SUMMARY:Vinyl Night
DESCRIPTION:Guest Vinyl DJs every thursday 7pm
URL:https://harmonybeer.com/event/vinyl-night/2028-06-08/
END:VEVENT
BEGIN:VEVENT
DTSTART;TZID=America/Detroit:20280611T190000
DTEND;TZID=America/Detroit:20280611T210000
DTSTAMP:20260422T185955
CREATED:20240624T185540Z
LAST-MODIFIED:20240624T185540Z
UID:10204368-1844362800-1844370000@harmonybeer.com
SUMMARY:Trivia Night - Geeks Who Drink
DESCRIPTION:Trivia night with Geeks Who Drink every Sunday 7pm. Compete for Harmony Gift Cards!
URL:https://harmonybeer.com/event/trivia-night-geeks-who-drink/2028-06-11/
END:VEVENT
BEGIN:VEVENT
DTSTART;TZID=America/Detroit:20280612T190000
DTEND;TZID=America/Detroit:20280612T210000
DTSTAMP:20260422T185955
CREATED:20240624T182240Z
LAST-MODIFIED:20240624T182240Z
UID:10203586-1844449200-1844456400@harmonybeer.com
SUMMARY:Euchre Night
DESCRIPTION:Bring a partner and compete for Harmony gift cards! 7pm every Monday
URL:https://harmonybeer.com/event/euchre-night-2/2028-06-12/
END:VEVENT
BEGIN:VEVENT
DTSTART;TZID=America/Detroit:20280614T190000
DTEND;TZID=America/Detroit:20280614T210000
DTSTAMP:20260422T185955
CREATED:20240624T182631Z
LAST-MODIFIED:20240624T182631Z
UID:10203847-1844622000-1844629200@harmonybeer.com
SUMMARY:Trivia Night - QuizQuest
DESCRIPTION:Trivia hosted by QuizQuest every Wednesday 7pm. Compete for Harmony Gift Cards!
URL:https://harmonybeer.com/event/trivia-night-quizquest/2028-06-14/
END:VEVENT
BEGIN:VEVENT
DTSTART;TZID=America/Detroit:20280615T190000
DTEND;TZID=America/Detroit:20280615T213000
DTSTAMP:20260422T185955
CREATED:20231206T151622Z
LAST-MODIFIED:20240528T142151Z
UID:10203329-1844708400-1844717400@harmonybeer.com
SUMMARY:Vinyl Night
DESCRIPTION:Guest Vinyl DJs every thursday 7pm
URL:https://harmonybeer.com/event/vinyl-night/2028-06-15/
END:VEVENT
BEGIN:VEVENT
DTSTART;TZID=America/Detroit:20280618T190000
DTEND;TZID=America/Detroit:20280618T210000
DTSTAMP:20260422T185955
CREATED:20240624T185540Z
LAST-MODIFIED:20240624T185540Z
UID:10204369-1844967600-1844974800@harmonybeer.com
SUMMARY:Trivia Night - Geeks Who Drink
DESCRIPTION:Trivia night with Geeks Who Drink every Sunday 7pm. Compete for Harmony Gift Cards!
URL:https://harmonybeer.com/event/trivia-night-geeks-who-drink/2028-06-18/
END:VEVENT
BEGIN:VEVENT
DTSTART;TZID=America/Detroit:20280619T190000
DTEND;TZID=America/Detroit:20280619T210000
DTSTAMP:20260422T185955
CREATED:20240624T182240Z
LAST-MODIFIED:20240624T182240Z
UID:10203587-1845054000-1845061200@harmonybeer.com
SUMMARY:Euchre Night
DESCRIPTION:Bring a partner and compete for Harmony gift cards! 7pm every Monday
URL:https://harmonybeer.com/event/euchre-night-2/2028-06-19/
END:VEVENT
BEGIN:VEVENT
DTSTART;TZID=America/Detroit:20280621T190000
DTEND;TZID=America/Detroit:20280621T210000
DTSTAMP:20260422T185955
CREATED:20240624T182631Z
LAST-MODIFIED:20240624T182631Z
UID:10203848-1845226800-1845234000@harmonybeer.com
SUMMARY:Trivia Night - QuizQuest
DESCRIPTION:Trivia hosted by QuizQuest every Wednesday 7pm. Compete for Harmony Gift Cards!
URL:https://harmonybeer.com/event/trivia-night-quizquest/2028-06-21/
END:VEVENT
BEGIN:VEVENT
DTSTART;TZID=America/Detroit:20280622T190000
DTEND;TZID=America/Detroit:20280622T213000
DTSTAMP:20260422T185955
CREATED:20231206T151622Z
LAST-MODIFIED:20240528T142151Z
UID:10203330-1845313200-1845322200@harmonybeer.com
SUMMARY:Vinyl Night
DESCRIPTION:Guest Vinyl DJs every thursday 7pm
URL:https://harmonybeer.com/event/vinyl-night/2028-06-22/
END:VEVENT
END:VCALENDAR