BEGIN:VCALENDAR
VERSION:2.0
PRODID:-//Harmony Beer - ECPv6.15.20//NONSGML v1.0//EN
CALSCALE:GREGORIAN
METHOD:PUBLISH
X-WR-CALNAME:Harmony Beer
X-ORIGINAL-URL:https://harmonybeer.com
X-WR-CALDESC:Events for Harmony Beer
REFRESH-INTERVAL;VALUE=DURATION:PT1H
X-Robots-Tag:noindex
X-PUBLISHED-TTL:PT1H
BEGIN:VTIMEZONE
TZID:America/Detroit
BEGIN:DAYLIGHT
TZOFFSETFROM:-0500
TZOFFSETTO:-0400
TZNAME:EDT
DTSTART:20280312T070000
END:DAYLIGHT
BEGIN:STANDARD
TZOFFSETFROM:-0400
TZOFFSETTO:-0500
TZNAME:EST
DTSTART:20281105T060000
END:STANDARD
BEGIN:DAYLIGHT
TZOFFSETFROM:-0500
TZOFFSETTO:-0400
TZNAME:EDT
DTSTART:20290311T070000
END:DAYLIGHT
BEGIN:STANDARD
TZOFFSETFROM:-0400
TZOFFSETTO:-0500
TZNAME:EST
DTSTART:20291104T060000
END:STANDARD
BEGIN:DAYLIGHT
TZOFFSETFROM:-0500
TZOFFSETTO:-0400
TZNAME:EDT
DTSTART:20300310T070000
END:DAYLIGHT
BEGIN:STANDARD
TZOFFSETFROM:-0400
TZOFFSETTO:-0500
TZNAME:EST
DTSTART:20301103T060000
END:STANDARD
END:VTIMEZONE
BEGIN:VEVENT
DTSTART;TZID=America/Detroit:20290117T190000
DTEND;TZID=America/Detroit:20290117T210000
DTSTAMP:20260422T234332
CREATED:20240624T182631Z
LAST-MODIFIED:20240624T182631Z
UID:10203878-1863370800-1863378000@harmonybeer.com
SUMMARY:Trivia Night - QuizQuest
DESCRIPTION:Trivia hosted by QuizQuest every Wednesday 7pm. Compete for Harmony Gift Cards!
URL:https://harmonybeer.com/event/trivia-night-quizquest/2029-01-17/
END:VEVENT
BEGIN:VEVENT
DTSTART;TZID=America/Detroit:20290118T190000
DTEND;TZID=America/Detroit:20290118T213000
DTSTAMP:20260422T234332
CREATED:20231206T151622Z
LAST-MODIFIED:20240528T142151Z
UID:10203360-1863457200-1863466200@harmonybeer.com
SUMMARY:Vinyl Night
DESCRIPTION:Guest Vinyl DJs every thursday 7pm
URL:https://harmonybeer.com/event/vinyl-night/2029-01-18/
END:VEVENT
BEGIN:VEVENT
DTSTART;TZID=America/Detroit:20290121T190000
DTEND;TZID=America/Detroit:20290121T210000
DTSTAMP:20260422T234332
CREATED:20240624T185540Z
LAST-MODIFIED:20240624T185540Z
UID:10204400-1863716400-1863723600@harmonybeer.com
SUMMARY:Trivia Night - Geeks Who Drink
DESCRIPTION:Trivia night with Geeks Who Drink every Sunday 7pm. Compete for Harmony Gift Cards!
URL:https://harmonybeer.com/event/trivia-night-geeks-who-drink/2029-01-21/
END:VEVENT
BEGIN:VEVENT
DTSTART;TZID=America/Detroit:20290122T190000
DTEND;TZID=America/Detroit:20290122T210000
DTSTAMP:20260422T234332
CREATED:20240624T182240Z
LAST-MODIFIED:20240624T182240Z
UID:10203618-1863802800-1863810000@harmonybeer.com
SUMMARY:Euchre Night
DESCRIPTION:Bring a partner and compete for Harmony gift cards! 7pm every Monday
URL:https://harmonybeer.com/event/euchre-night-2/2029-01-22/
END:VEVENT
BEGIN:VEVENT
DTSTART;TZID=America/Detroit:20290124T190000
DTEND;TZID=America/Detroit:20290124T210000
DTSTAMP:20260422T234332
CREATED:20240624T182631Z
LAST-MODIFIED:20240624T182631Z
UID:10203879-1863975600-1863982800@harmonybeer.com
SUMMARY:Trivia Night - QuizQuest
DESCRIPTION:Trivia hosted by QuizQuest every Wednesday 7pm. Compete for Harmony Gift Cards!
URL:https://harmonybeer.com/event/trivia-night-quizquest/2029-01-24/
END:VEVENT
BEGIN:VEVENT
DTSTART;TZID=America/Detroit:20290125T190000
DTEND;TZID=America/Detroit:20290125T213000
DTSTAMP:20260422T234332
CREATED:20231206T151622Z
LAST-MODIFIED:20240528T142151Z
UID:10203361-1864062000-1864071000@harmonybeer.com
SUMMARY:Vinyl Night
DESCRIPTION:Guest Vinyl DJs every thursday 7pm
URL:https://harmonybeer.com/event/vinyl-night/2029-01-25/
END:VEVENT
BEGIN:VEVENT
DTSTART;TZID=America/Detroit:20290128T190000
DTEND;TZID=America/Detroit:20290128T210000
DTSTAMP:20260422T234332
CREATED:20240624T185540Z
LAST-MODIFIED:20240624T185540Z
UID:10204401-1864321200-1864328400@harmonybeer.com
SUMMARY:Trivia Night - Geeks Who Drink
DESCRIPTION:Trivia night with Geeks Who Drink every Sunday 7pm. Compete for Harmony Gift Cards!
URL:https://harmonybeer.com/event/trivia-night-geeks-who-drink/2029-01-28/
END:VEVENT
BEGIN:VEVENT
DTSTART;TZID=America/Detroit:20290129T190000
DTEND;TZID=America/Detroit:20290129T210000
DTSTAMP:20260422T234332
CREATED:20240624T182240Z
LAST-MODIFIED:20240624T182240Z
UID:10203619-1864407600-1864414800@harmonybeer.com
SUMMARY:Euchre Night
DESCRIPTION:Bring a partner and compete for Harmony gift cards! 7pm every Monday
URL:https://harmonybeer.com/event/euchre-night-2/2029-01-29/
END:VEVENT
BEGIN:VEVENT
DTSTART;TZID=America/Detroit:20290131T190000
DTEND;TZID=America/Detroit:20290131T210000
DTSTAMP:20260422T234332
CREATED:20240624T182631Z
LAST-MODIFIED:20240624T182631Z
UID:10203880-1864580400-1864587600@harmonybeer.com
SUMMARY:Trivia Night - QuizQuest
DESCRIPTION:Trivia hosted by QuizQuest every Wednesday 7pm. Compete for Harmony Gift Cards!
URL:https://harmonybeer.com/event/trivia-night-quizquest/2029-01-31/
END:VEVENT
BEGIN:VEVENT
DTSTART;TZID=America/Detroit:20290201T190000
DTEND;TZID=America/Detroit:20290201T213000
DTSTAMP:20260422T234332
CREATED:20231206T151622Z
LAST-MODIFIED:20240528T142151Z
UID:10203362-1864666800-1864675800@harmonybeer.com
SUMMARY:Vinyl Night
DESCRIPTION:Guest Vinyl DJs every thursday 7pm
URL:https://harmonybeer.com/event/vinyl-night/2029-02-01/
END:VEVENT
BEGIN:VEVENT
DTSTART;TZID=America/Detroit:20290204T190000
DTEND;TZID=America/Detroit:20290204T210000
DTSTAMP:20260422T234332
CREATED:20240624T185540Z
LAST-MODIFIED:20240624T185540Z
UID:10204402-1864926000-1864933200@harmonybeer.com
SUMMARY:Trivia Night - Geeks Who Drink
DESCRIPTION:Trivia night with Geeks Who Drink every Sunday 7pm. Compete for Harmony Gift Cards!
URL:https://harmonybeer.com/event/trivia-night-geeks-who-drink/2029-02-04/
END:VEVENT
BEGIN:VEVENT
DTSTART;TZID=America/Detroit:20290205T190000
DTEND;TZID=America/Detroit:20290205T210000
DTSTAMP:20260422T234332
CREATED:20240624T182240Z
LAST-MODIFIED:20240624T182240Z
UID:10203620-1865012400-1865019600@harmonybeer.com
SUMMARY:Euchre Night
DESCRIPTION:Bring a partner and compete for Harmony gift cards! 7pm every Monday
URL:https://harmonybeer.com/event/euchre-night-2/2029-02-05/
END:VEVENT
BEGIN:VEVENT
DTSTART;TZID=America/Detroit:20290207T190000
DTEND;TZID=America/Detroit:20290207T210000
DTSTAMP:20260422T234332
CREATED:20240624T182631Z
LAST-MODIFIED:20240624T182631Z
UID:10203881-1865185200-1865192400@harmonybeer.com
SUMMARY:Trivia Night - QuizQuest
DESCRIPTION:Trivia hosted by QuizQuest every Wednesday 7pm. Compete for Harmony Gift Cards!
URL:https://harmonybeer.com/event/trivia-night-quizquest/2029-02-07/
END:VEVENT
BEGIN:VEVENT
DTSTART;TZID=America/Detroit:20290208T190000
DTEND;TZID=America/Detroit:20290208T213000
DTSTAMP:20260422T234332
CREATED:20231206T151622Z
LAST-MODIFIED:20240528T142151Z
UID:10203363-1865271600-1865280600@harmonybeer.com
SUMMARY:Vinyl Night
DESCRIPTION:Guest Vinyl DJs every thursday 7pm
URL:https://harmonybeer.com/event/vinyl-night/2029-02-08/
END:VEVENT
BEGIN:VEVENT
DTSTART;TZID=America/Detroit:20290211T190000
DTEND;TZID=America/Detroit:20290211T210000
DTSTAMP:20260422T234332
CREATED:20240624T185540Z
LAST-MODIFIED:20240624T185540Z
UID:10204403-1865530800-1865538000@harmonybeer.com
SUMMARY:Trivia Night - Geeks Who Drink
DESCRIPTION:Trivia night with Geeks Who Drink every Sunday 7pm. Compete for Harmony Gift Cards!
URL:https://harmonybeer.com/event/trivia-night-geeks-who-drink/2029-02-11/
END:VEVENT
BEGIN:VEVENT
DTSTART;TZID=America/Detroit:20290212T190000
DTEND;TZID=America/Detroit:20290212T210000
DTSTAMP:20260422T234332
CREATED:20240624T182240Z
LAST-MODIFIED:20240624T182240Z
UID:10203621-1865617200-1865624400@harmonybeer.com
SUMMARY:Euchre Night
DESCRIPTION:Bring a partner and compete for Harmony gift cards! 7pm every Monday
URL:https://harmonybeer.com/event/euchre-night-2/2029-02-12/
END:VEVENT
BEGIN:VEVENT
DTSTART;TZID=America/Detroit:20290214T190000
DTEND;TZID=America/Detroit:20290214T210000
DTSTAMP:20260422T234332
CREATED:20240624T182631Z
LAST-MODIFIED:20240624T182631Z
UID:10203882-1865790000-1865797200@harmonybeer.com
SUMMARY:Trivia Night - QuizQuest
DESCRIPTION:Trivia hosted by QuizQuest every Wednesday 7pm. Compete for Harmony Gift Cards!
URL:https://harmonybeer.com/event/trivia-night-quizquest/2029-02-14/
END:VEVENT
BEGIN:VEVENT
DTSTART;TZID=America/Detroit:20290215T190000
DTEND;TZID=America/Detroit:20290215T213000
DTSTAMP:20260422T234332
CREATED:20231206T151622Z
LAST-MODIFIED:20240528T142151Z
UID:10203364-1865876400-1865885400@harmonybeer.com
SUMMARY:Vinyl Night
DESCRIPTION:Guest Vinyl DJs every thursday 7pm
URL:https://harmonybeer.com/event/vinyl-night/2029-02-15/
END:VEVENT
BEGIN:VEVENT
DTSTART;TZID=America/Detroit:20290218T190000
DTEND;TZID=America/Detroit:20290218T210000
DTSTAMP:20260422T234332
CREATED:20240624T185540Z
LAST-MODIFIED:20240624T185540Z
UID:10204404-1866135600-1866142800@harmonybeer.com
SUMMARY:Trivia Night - Geeks Who Drink
DESCRIPTION:Trivia night with Geeks Who Drink every Sunday 7pm. Compete for Harmony Gift Cards!
URL:https://harmonybeer.com/event/trivia-night-geeks-who-drink/2029-02-18/
END:VEVENT
BEGIN:VEVENT
DTSTART;TZID=America/Detroit:20290219T190000
DTEND;TZID=America/Detroit:20290219T210000
DTSTAMP:20260422T234332
CREATED:20240624T182240Z
LAST-MODIFIED:20240624T182240Z
UID:10203622-1866222000-1866229200@harmonybeer.com
SUMMARY:Euchre Night
DESCRIPTION:Bring a partner and compete for Harmony gift cards! 7pm every Monday
URL:https://harmonybeer.com/event/euchre-night-2/2029-02-19/
END:VEVENT
BEGIN:VEVENT
DTSTART;TZID=America/Detroit:20290221T190000
DTEND;TZID=America/Detroit:20290221T210000
DTSTAMP:20260422T234332
CREATED:20240624T182631Z
LAST-MODIFIED:20240624T182631Z
UID:10203883-1866394800-1866402000@harmonybeer.com
SUMMARY:Trivia Night - QuizQuest
DESCRIPTION:Trivia hosted by QuizQuest every Wednesday 7pm. Compete for Harmony Gift Cards!
URL:https://harmonybeer.com/event/trivia-night-quizquest/2029-02-21/
END:VEVENT
BEGIN:VEVENT
DTSTART;TZID=America/Detroit:20290222T190000
DTEND;TZID=America/Detroit:20290222T213000
DTSTAMP:20260422T234332
CREATED:20231206T151622Z
LAST-MODIFIED:20240528T142151Z
UID:10203365-1866481200-1866490200@harmonybeer.com
SUMMARY:Vinyl Night
DESCRIPTION:Guest Vinyl DJs every thursday 7pm
URL:https://harmonybeer.com/event/vinyl-night/2029-02-22/
END:VEVENT
BEGIN:VEVENT
DTSTART;TZID=America/Detroit:20290225T190000
DTEND;TZID=America/Detroit:20290225T210000
DTSTAMP:20260422T234332
CREATED:20240624T185540Z
LAST-MODIFIED:20240624T185540Z
UID:10204405-1866740400-1866747600@harmonybeer.com
SUMMARY:Trivia Night - Geeks Who Drink
DESCRIPTION:Trivia night with Geeks Who Drink every Sunday 7pm. Compete for Harmony Gift Cards!
URL:https://harmonybeer.com/event/trivia-night-geeks-who-drink/2029-02-25/
END:VEVENT
BEGIN:VEVENT
DTSTART;TZID=America/Detroit:20290226T190000
DTEND;TZID=America/Detroit:20290226T210000
DTSTAMP:20260422T234332
CREATED:20240624T182240Z
LAST-MODIFIED:20240624T182240Z
UID:10203623-1866826800-1866834000@harmonybeer.com
SUMMARY:Euchre Night
DESCRIPTION:Bring a partner and compete for Harmony gift cards! 7pm every Monday
URL:https://harmonybeer.com/event/euchre-night-2/2029-02-26/
END:VEVENT
BEGIN:VEVENT
DTSTART;TZID=America/Detroit:20290228T190000
DTEND;TZID=America/Detroit:20290228T210000
DTSTAMP:20260422T234332
CREATED:20240624T182631Z
LAST-MODIFIED:20240624T182631Z
UID:10203884-1866999600-1867006800@harmonybeer.com
SUMMARY:Trivia Night - QuizQuest
DESCRIPTION:Trivia hosted by QuizQuest every Wednesday 7pm. Compete for Harmony Gift Cards!
URL:https://harmonybeer.com/event/trivia-night-quizquest/2029-02-28/
END:VEVENT
BEGIN:VEVENT
DTSTART;TZID=America/Detroit:20290301T190000
DTEND;TZID=America/Detroit:20290301T213000
DTSTAMP:20260422T234332
CREATED:20231206T151622Z
LAST-MODIFIED:20240528T142151Z
UID:10203366-1867086000-1867095000@harmonybeer.com
SUMMARY:Vinyl Night
DESCRIPTION:Guest Vinyl DJs every thursday 7pm
URL:https://harmonybeer.com/event/vinyl-night/2029-03-01/
END:VEVENT
BEGIN:VEVENT
DTSTART;TZID=America/Detroit:20290304T190000
DTEND;TZID=America/Detroit:20290304T210000
DTSTAMP:20260422T234332
CREATED:20240624T185540Z
LAST-MODIFIED:20240624T185540Z
UID:10204406-1867345200-1867352400@harmonybeer.com
SUMMARY:Trivia Night - Geeks Who Drink
DESCRIPTION:Trivia night with Geeks Who Drink every Sunday 7pm. Compete for Harmony Gift Cards!
URL:https://harmonybeer.com/event/trivia-night-geeks-who-drink/2029-03-04/
END:VEVENT
BEGIN:VEVENT
DTSTART;TZID=America/Detroit:20290305T190000
DTEND;TZID=America/Detroit:20290305T210000
DTSTAMP:20260422T234332
CREATED:20240624T182240Z
LAST-MODIFIED:20240624T182240Z
UID:10203624-1867431600-1867438800@harmonybeer.com
SUMMARY:Euchre Night
DESCRIPTION:Bring a partner and compete for Harmony gift cards! 7pm every Monday
URL:https://harmonybeer.com/event/euchre-night-2/2029-03-05/
END:VEVENT
BEGIN:VEVENT
DTSTART;TZID=America/Detroit:20290307T190000
DTEND;TZID=America/Detroit:20290307T210000
DTSTAMP:20260422T234332
CREATED:20240624T182631Z
LAST-MODIFIED:20240624T182631Z
UID:10203885-1867604400-1867611600@harmonybeer.com
SUMMARY:Trivia Night - QuizQuest
DESCRIPTION:Trivia hosted by QuizQuest every Wednesday 7pm. Compete for Harmony Gift Cards!
URL:https://harmonybeer.com/event/trivia-night-quizquest/2029-03-07/
END:VEVENT
BEGIN:VEVENT
DTSTART;TZID=America/Detroit:20290308T190000
DTEND;TZID=America/Detroit:20290308T213000
DTSTAMP:20260422T234332
CREATED:20231206T151622Z
LAST-MODIFIED:20240528T142151Z
UID:10203367-1867690800-1867699800@harmonybeer.com
SUMMARY:Vinyl Night
DESCRIPTION:Guest Vinyl DJs every thursday 7pm
URL:https://harmonybeer.com/event/vinyl-night/2029-03-08/
END:VEVENT
END:VCALENDAR