BEGIN:VCALENDAR
VERSION:2.0
PRODID:-//Harmony Beer - ECPv6.15.20//NONSGML v1.0//EN
CALSCALE:GREGORIAN
METHOD:PUBLISH
X-ORIGINAL-URL:https://harmonybeer.com
X-WR-CALDESC:Events for Harmony Beer
REFRESH-INTERVAL;VALUE=DURATION:PT1H
X-Robots-Tag:noindex
X-PUBLISHED-TTL:PT1H
BEGIN:VTIMEZONE
TZID:America/Detroit
BEGIN:DAYLIGHT
TZOFFSETFROM:-0500
TZOFFSETTO:-0400
TZNAME:EDT
DTSTART:20270314T070000
END:DAYLIGHT
BEGIN:STANDARD
TZOFFSETFROM:-0400
TZOFFSETTO:-0500
TZNAME:EST
DTSTART:20271107T060000
END:STANDARD
BEGIN:DAYLIGHT
TZOFFSETFROM:-0500
TZOFFSETTO:-0400
TZNAME:EDT
DTSTART:20280312T070000
END:DAYLIGHT
BEGIN:STANDARD
TZOFFSETFROM:-0400
TZOFFSETTO:-0500
TZNAME:EST
DTSTART:20281105T060000
END:STANDARD
BEGIN:DAYLIGHT
TZOFFSETFROM:-0500
TZOFFSETTO:-0400
TZNAME:EDT
DTSTART:20290311T070000
END:DAYLIGHT
BEGIN:STANDARD
TZOFFSETFROM:-0400
TZOFFSETTO:-0500
TZNAME:EST
DTSTART:20291104T060000
END:STANDARD
END:VTIMEZONE
BEGIN:VEVENT
DTSTART;TZID=America/Detroit:20281018T190000
DTEND;TZID=America/Detroit:20281018T210000
DTSTAMP:20260422T183729
CREATED:20240624T182631Z
LAST-MODIFIED:20240624T182631Z
UID:10203865-1855508400-1855515600@harmonybeer.com
SUMMARY:Trivia Night - QuizQuest
DESCRIPTION:Trivia hosted by QuizQuest every Wednesday 7pm. Compete for Harmony Gift Cards!
URL:https://harmonybeer.com/event/trivia-night-quizquest/2028-10-18/
END:VEVENT
BEGIN:VEVENT
DTSTART;TZID=America/Detroit:20281019T190000
DTEND;TZID=America/Detroit:20281019T213000
DTSTAMP:20260422T183729
CREATED:20231206T151622Z
LAST-MODIFIED:20240528T142151Z
UID:10203347-1855594800-1855603800@harmonybeer.com
SUMMARY:Vinyl Night
DESCRIPTION:Guest Vinyl DJs every thursday 7pm
URL:https://harmonybeer.com/event/vinyl-night/2028-10-19/
END:VEVENT
BEGIN:VEVENT
DTSTART;TZID=America/Detroit:20281022T190000
DTEND;TZID=America/Detroit:20281022T210000
DTSTAMP:20260422T183729
CREATED:20240624T185540Z
LAST-MODIFIED:20240624T185540Z
UID:10204387-1855854000-1855861200@harmonybeer.com
SUMMARY:Trivia Night - Geeks Who Drink
DESCRIPTION:Trivia night with Geeks Who Drink every Sunday 7pm. Compete for Harmony Gift Cards!
URL:https://harmonybeer.com/event/trivia-night-geeks-who-drink/2028-10-22/
END:VEVENT
BEGIN:VEVENT
DTSTART;TZID=America/Detroit:20281023T190000
DTEND;TZID=America/Detroit:20281023T210000
DTSTAMP:20260422T183729
CREATED:20240624T182240Z
LAST-MODIFIED:20240624T182240Z
UID:10203605-1855940400-1855947600@harmonybeer.com
SUMMARY:Euchre Night
DESCRIPTION:Bring a partner and compete for Harmony gift cards! 7pm every Monday
URL:https://harmonybeer.com/event/euchre-night-2/2028-10-23/
END:VEVENT
BEGIN:VEVENT
DTSTART;TZID=America/Detroit:20281025T190000
DTEND;TZID=America/Detroit:20281025T210000
DTSTAMP:20260422T183729
CREATED:20240624T182631Z
LAST-MODIFIED:20240624T182631Z
UID:10203866-1856113200-1856120400@harmonybeer.com
SUMMARY:Trivia Night - QuizQuest
DESCRIPTION:Trivia hosted by QuizQuest every Wednesday 7pm. Compete for Harmony Gift Cards!
URL:https://harmonybeer.com/event/trivia-night-quizquest/2028-10-25/
END:VEVENT
BEGIN:VEVENT
DTSTART;TZID=America/Detroit:20281026T190000
DTEND;TZID=America/Detroit:20281026T213000
DTSTAMP:20260422T183730
CREATED:20231206T151622Z
LAST-MODIFIED:20240528T142151Z
UID:10203348-1856199600-1856208600@harmonybeer.com
SUMMARY:Vinyl Night
DESCRIPTION:Guest Vinyl DJs every thursday 7pm
URL:https://harmonybeer.com/event/vinyl-night/2028-10-26/
END:VEVENT
BEGIN:VEVENT
DTSTART;TZID=America/Detroit:20281029T190000
DTEND;TZID=America/Detroit:20281029T210000
DTSTAMP:20260422T183730
CREATED:20240624T185540Z
LAST-MODIFIED:20240624T185540Z
UID:10204388-1856458800-1856466000@harmonybeer.com
SUMMARY:Trivia Night - Geeks Who Drink
DESCRIPTION:Trivia night with Geeks Who Drink every Sunday 7pm. Compete for Harmony Gift Cards!
URL:https://harmonybeer.com/event/trivia-night-geeks-who-drink/2028-10-29/
END:VEVENT
BEGIN:VEVENT
DTSTART;TZID=America/Detroit:20281030T190000
DTEND;TZID=America/Detroit:20281030T210000
DTSTAMP:20260422T183730
CREATED:20240624T182240Z
LAST-MODIFIED:20240624T182240Z
UID:10203606-1856545200-1856552400@harmonybeer.com
SUMMARY:Euchre Night
DESCRIPTION:Bring a partner and compete for Harmony gift cards! 7pm every Monday
URL:https://harmonybeer.com/event/euchre-night-2/2028-10-30/
END:VEVENT
BEGIN:VEVENT
DTSTART;TZID=America/Detroit:20281101T190000
DTEND;TZID=America/Detroit:20281101T210000
DTSTAMP:20260422T183730
CREATED:20240624T182631Z
LAST-MODIFIED:20240624T182631Z
UID:10203867-1856718000-1856725200@harmonybeer.com
SUMMARY:Trivia Night - QuizQuest
DESCRIPTION:Trivia hosted by QuizQuest every Wednesday 7pm. Compete for Harmony Gift Cards!
URL:https://harmonybeer.com/event/trivia-night-quizquest/2028-11-01/
END:VEVENT
BEGIN:VEVENT
DTSTART;TZID=America/Detroit:20281102T190000
DTEND;TZID=America/Detroit:20281102T213000
DTSTAMP:20260422T183730
CREATED:20231206T151622Z
LAST-MODIFIED:20240528T142151Z
UID:10203349-1856804400-1856813400@harmonybeer.com
SUMMARY:Vinyl Night
DESCRIPTION:Guest Vinyl DJs every thursday 7pm
URL:https://harmonybeer.com/event/vinyl-night/2028-11-02/
END:VEVENT
BEGIN:VEVENT
DTSTART;TZID=America/Detroit:20281105T190000
DTEND;TZID=America/Detroit:20281105T210000
DTSTAMP:20260422T183730
CREATED:20240624T185540Z
LAST-MODIFIED:20240624T185540Z
UID:10204389-1857063600-1857070800@harmonybeer.com
SUMMARY:Trivia Night - Geeks Who Drink
DESCRIPTION:Trivia night with Geeks Who Drink every Sunday 7pm. Compete for Harmony Gift Cards!
URL:https://harmonybeer.com/event/trivia-night-geeks-who-drink/2028-11-05/
END:VEVENT
BEGIN:VEVENT
DTSTART;TZID=America/Detroit:20281106T190000
DTEND;TZID=America/Detroit:20281106T210000
DTSTAMP:20260422T183730
CREATED:20240624T182240Z
LAST-MODIFIED:20240624T182240Z
UID:10203607-1857150000-1857157200@harmonybeer.com
SUMMARY:Euchre Night
DESCRIPTION:Bring a partner and compete for Harmony gift cards! 7pm every Monday
URL:https://harmonybeer.com/event/euchre-night-2/2028-11-06/
END:VEVENT
BEGIN:VEVENT
DTSTART;TZID=America/Detroit:20281108T190000
DTEND;TZID=America/Detroit:20281108T210000
DTSTAMP:20260422T183730
CREATED:20240624T182631Z
LAST-MODIFIED:20240624T182631Z
UID:10203868-1857322800-1857330000@harmonybeer.com
SUMMARY:Trivia Night - QuizQuest
DESCRIPTION:Trivia hosted by QuizQuest every Wednesday 7pm. Compete for Harmony Gift Cards!
URL:https://harmonybeer.com/event/trivia-night-quizquest/2028-11-08/
END:VEVENT
BEGIN:VEVENT
DTSTART;TZID=America/Detroit:20281109T190000
DTEND;TZID=America/Detroit:20281109T213000
DTSTAMP:20260422T183730
CREATED:20231206T151622Z
LAST-MODIFIED:20240528T142151Z
UID:10203350-1857409200-1857418200@harmonybeer.com
SUMMARY:Vinyl Night
DESCRIPTION:Guest Vinyl DJs every thursday 7pm
URL:https://harmonybeer.com/event/vinyl-night/2028-11-09/
END:VEVENT
BEGIN:VEVENT
DTSTART;TZID=America/Detroit:20281112T190000
DTEND;TZID=America/Detroit:20281112T210000
DTSTAMP:20260422T183730
CREATED:20240624T185540Z
LAST-MODIFIED:20240624T185540Z
UID:10204390-1857668400-1857675600@harmonybeer.com
SUMMARY:Trivia Night - Geeks Who Drink
DESCRIPTION:Trivia night with Geeks Who Drink every Sunday 7pm. Compete for Harmony Gift Cards!
URL:https://harmonybeer.com/event/trivia-night-geeks-who-drink/2028-11-12/
END:VEVENT
BEGIN:VEVENT
DTSTART;TZID=America/Detroit:20281113T190000
DTEND;TZID=America/Detroit:20281113T210000
DTSTAMP:20260422T183730
CREATED:20240624T182240Z
LAST-MODIFIED:20240624T182240Z
UID:10203608-1857754800-1857762000@harmonybeer.com
SUMMARY:Euchre Night
DESCRIPTION:Bring a partner and compete for Harmony gift cards! 7pm every Monday
URL:https://harmonybeer.com/event/euchre-night-2/2028-11-13/
END:VEVENT
BEGIN:VEVENT
DTSTART;TZID=America/Detroit:20281115T190000
DTEND;TZID=America/Detroit:20281115T210000
DTSTAMP:20260422T183730
CREATED:20240624T182631Z
LAST-MODIFIED:20240624T182631Z
UID:10203869-1857927600-1857934800@harmonybeer.com
SUMMARY:Trivia Night - QuizQuest
DESCRIPTION:Trivia hosted by QuizQuest every Wednesday 7pm. Compete for Harmony Gift Cards!
URL:https://harmonybeer.com/event/trivia-night-quizquest/2028-11-15/
END:VEVENT
BEGIN:VEVENT
DTSTART;TZID=America/Detroit:20281116T190000
DTEND;TZID=America/Detroit:20281116T213000
DTSTAMP:20260422T183730
CREATED:20231206T151622Z
LAST-MODIFIED:20240528T142151Z
UID:10203351-1858014000-1858023000@harmonybeer.com
SUMMARY:Vinyl Night
DESCRIPTION:Guest Vinyl DJs every thursday 7pm
URL:https://harmonybeer.com/event/vinyl-night/2028-11-16/
END:VEVENT
BEGIN:VEVENT
DTSTART;TZID=America/Detroit:20281119T190000
DTEND;TZID=America/Detroit:20281119T210000
DTSTAMP:20260422T183730
CREATED:20240624T185540Z
LAST-MODIFIED:20240624T185540Z
UID:10204391-1858273200-1858280400@harmonybeer.com
SUMMARY:Trivia Night - Geeks Who Drink
DESCRIPTION:Trivia night with Geeks Who Drink every Sunday 7pm. Compete for Harmony Gift Cards!
URL:https://harmonybeer.com/event/trivia-night-geeks-who-drink/2028-11-19/
END:VEVENT
BEGIN:VEVENT
DTSTART;TZID=America/Detroit:20281120T190000
DTEND;TZID=America/Detroit:20281120T210000
DTSTAMP:20260422T183730
CREATED:20240624T182240Z
LAST-MODIFIED:20240624T182240Z
UID:10203609-1858359600-1858366800@harmonybeer.com
SUMMARY:Euchre Night
DESCRIPTION:Bring a partner and compete for Harmony gift cards! 7pm every Monday
URL:https://harmonybeer.com/event/euchre-night-2/2028-11-20/
END:VEVENT
BEGIN:VEVENT
DTSTART;TZID=America/Detroit:20281122T190000
DTEND;TZID=America/Detroit:20281122T210000
DTSTAMP:20260422T183730
CREATED:20240624T182631Z
LAST-MODIFIED:20240624T182631Z
UID:10203870-1858532400-1858539600@harmonybeer.com
SUMMARY:Trivia Night - QuizQuest
DESCRIPTION:Trivia hosted by QuizQuest every Wednesday 7pm. Compete for Harmony Gift Cards!
URL:https://harmonybeer.com/event/trivia-night-quizquest/2028-11-22/
END:VEVENT
BEGIN:VEVENT
DTSTART;TZID=America/Detroit:20281123T190000
DTEND;TZID=America/Detroit:20281123T213000
DTSTAMP:20260422T183730
CREATED:20231206T151622Z
LAST-MODIFIED:20240528T142151Z
UID:10203352-1858618800-1858627800@harmonybeer.com
SUMMARY:Vinyl Night
DESCRIPTION:Guest Vinyl DJs every thursday 7pm
URL:https://harmonybeer.com/event/vinyl-night/2028-11-23/
END:VEVENT
BEGIN:VEVENT
DTSTART;TZID=America/Detroit:20281126T190000
DTEND;TZID=America/Detroit:20281126T210000
DTSTAMP:20260422T183730
CREATED:20240624T185540Z
LAST-MODIFIED:20240624T185540Z
UID:10204392-1858878000-1858885200@harmonybeer.com
SUMMARY:Trivia Night - Geeks Who Drink
DESCRIPTION:Trivia night with Geeks Who Drink every Sunday 7pm. Compete for Harmony Gift Cards!
URL:https://harmonybeer.com/event/trivia-night-geeks-who-drink/2028-11-26/
END:VEVENT
BEGIN:VEVENT
DTSTART;TZID=America/Detroit:20281127T190000
DTEND;TZID=America/Detroit:20281127T210000
DTSTAMP:20260422T183730
CREATED:20240624T182240Z
LAST-MODIFIED:20240624T182240Z
UID:10203610-1858964400-1858971600@harmonybeer.com
SUMMARY:Euchre Night
DESCRIPTION:Bring a partner and compete for Harmony gift cards! 7pm every Monday
URL:https://harmonybeer.com/event/euchre-night-2/2028-11-27/
END:VEVENT
BEGIN:VEVENT
DTSTART;TZID=America/Detroit:20281129T190000
DTEND;TZID=America/Detroit:20281129T210000
DTSTAMP:20260422T183730
CREATED:20240624T182631Z
LAST-MODIFIED:20240624T182631Z
UID:10203871-1859137200-1859144400@harmonybeer.com
SUMMARY:Trivia Night - QuizQuest
DESCRIPTION:Trivia hosted by QuizQuest every Wednesday 7pm. Compete for Harmony Gift Cards!
URL:https://harmonybeer.com/event/trivia-night-quizquest/2028-11-29/
END:VEVENT
BEGIN:VEVENT
DTSTART;TZID=America/Detroit:20281130T190000
DTEND;TZID=America/Detroit:20281130T213000
DTSTAMP:20260422T183730
CREATED:20231206T151622Z
LAST-MODIFIED:20240528T142151Z
UID:10203353-1859223600-1859232600@harmonybeer.com
SUMMARY:Vinyl Night
DESCRIPTION:Guest Vinyl DJs every thursday 7pm
URL:https://harmonybeer.com/event/vinyl-night/2028-11-30/
END:VEVENT
BEGIN:VEVENT
DTSTART;TZID=America/Detroit:20281203T190000
DTEND;TZID=America/Detroit:20281203T210000
DTSTAMP:20260422T183730
CREATED:20240624T185540Z
LAST-MODIFIED:20240624T185540Z
UID:10204393-1859482800-1859490000@harmonybeer.com
SUMMARY:Trivia Night - Geeks Who Drink
DESCRIPTION:Trivia night with Geeks Who Drink every Sunday 7pm. Compete for Harmony Gift Cards!
URL:https://harmonybeer.com/event/trivia-night-geeks-who-drink/2028-12-03/
END:VEVENT
BEGIN:VEVENT
DTSTART;TZID=America/Detroit:20281204T190000
DTEND;TZID=America/Detroit:20281204T210000
DTSTAMP:20260422T183730
CREATED:20240624T182240Z
LAST-MODIFIED:20240624T182240Z
UID:10203611-1859569200-1859576400@harmonybeer.com
SUMMARY:Euchre Night
DESCRIPTION:Bring a partner and compete for Harmony gift cards! 7pm every Monday
URL:https://harmonybeer.com/event/euchre-night-2/2028-12-04/
END:VEVENT
BEGIN:VEVENT
DTSTART;TZID=America/Detroit:20281206T190000
DTEND;TZID=America/Detroit:20281206T210000
DTSTAMP:20260422T183730
CREATED:20240624T182631Z
LAST-MODIFIED:20240624T182631Z
UID:10203872-1859742000-1859749200@harmonybeer.com
SUMMARY:Trivia Night - QuizQuest
DESCRIPTION:Trivia hosted by QuizQuest every Wednesday 7pm. Compete for Harmony Gift Cards!
URL:https://harmonybeer.com/event/trivia-night-quizquest/2028-12-06/
END:VEVENT
BEGIN:VEVENT
DTSTART;TZID=America/Detroit:20281207T190000
DTEND;TZID=America/Detroit:20281207T213000
DTSTAMP:20260422T183730
CREATED:20231206T151622Z
LAST-MODIFIED:20240528T142151Z
UID:10203354-1859828400-1859837400@harmonybeer.com
SUMMARY:Vinyl Night
DESCRIPTION:Guest Vinyl DJs every thursday 7pm
URL:https://harmonybeer.com/event/vinyl-night/2028-12-07/
END:VEVENT
END:VCALENDAR