BEGIN:VCALENDAR
VERSION:2.0
PRODID:-//Harmony Beer - ECPv6.15.20//NONSGML v1.0//EN
CALSCALE:GREGORIAN
METHOD:PUBLISH
X-WR-CALNAME:Harmony Beer
X-ORIGINAL-URL:https://harmonybeer.com
X-WR-CALDESC:Events for Harmony Beer
REFRESH-INTERVAL;VALUE=DURATION:PT1H
X-Robots-Tag:noindex
X-PUBLISHED-TTL:PT1H
BEGIN:VTIMEZONE
TZID:America/Detroit
BEGIN:DAYLIGHT
TZOFFSETFROM:-0500
TZOFFSETTO:-0400
TZNAME:EDT
DTSTART:20260308T070000
END:DAYLIGHT
BEGIN:STANDARD
TZOFFSETFROM:-0400
TZOFFSETTO:-0500
TZNAME:EST
DTSTART:20261101T060000
END:STANDARD
BEGIN:DAYLIGHT
TZOFFSETFROM:-0500
TZOFFSETTO:-0400
TZNAME:EDT
DTSTART:20270314T070000
END:DAYLIGHT
BEGIN:STANDARD
TZOFFSETFROM:-0400
TZOFFSETTO:-0500
TZNAME:EST
DTSTART:20271107T060000
END:STANDARD
BEGIN:DAYLIGHT
TZOFFSETFROM:-0500
TZOFFSETTO:-0400
TZNAME:EDT
DTSTART:20280312T070000
END:DAYLIGHT
BEGIN:STANDARD
TZOFFSETFROM:-0400
TZOFFSETTO:-0500
TZNAME:EST
DTSTART:20281105T060000
END:STANDARD
END:VTIMEZONE
BEGIN:VEVENT
DTSTART;TZID=America/Detroit:20270421T190000
DTEND;TZID=America/Detroit:20270421T210000
DTSTAMP:20260421T175754
CREATED:20240624T182631Z
LAST-MODIFIED:20240624T182631Z
UID:10203787-1808334000-1808341200@harmonybeer.com
SUMMARY:Trivia Night - QuizQuest
DESCRIPTION:Trivia hosted by QuizQuest every Wednesday 7pm. Compete for Harmony Gift Cards!
URL:https://harmonybeer.com/event/trivia-night-quizquest/2027-04-21/
END:VEVENT
BEGIN:VEVENT
DTSTART;TZID=America/Detroit:20270422T190000
DTEND;TZID=America/Detroit:20270422T213000
DTSTAMP:20260421T175754
CREATED:20231206T151622Z
LAST-MODIFIED:20240528T142151Z
UID:10203269-1808420400-1808429400@harmonybeer.com
SUMMARY:Vinyl Night
DESCRIPTION:Guest Vinyl DJs every thursday 7pm
URL:https://harmonybeer.com/event/vinyl-night/2027-04-22/
END:VEVENT
BEGIN:VEVENT
DTSTART;TZID=America/Detroit:20270425T190000
DTEND;TZID=America/Detroit:20270425T210000
DTSTAMP:20260421T175754
CREATED:20240624T185540Z
LAST-MODIFIED:20240624T185540Z
UID:10204309-1808679600-1808686800@harmonybeer.com
SUMMARY:Trivia Night - Geeks Who Drink
DESCRIPTION:Trivia night with Geeks Who Drink every Sunday 7pm. Compete for Harmony Gift Cards!
URL:https://harmonybeer.com/event/trivia-night-geeks-who-drink/2027-04-25/
END:VEVENT
BEGIN:VEVENT
DTSTART;TZID=America/Detroit:20270426T190000
DTEND;TZID=America/Detroit:20270426T210000
DTSTAMP:20260421T175754
CREATED:20240624T182240Z
LAST-MODIFIED:20240624T182240Z
UID:10203527-1808766000-1808773200@harmonybeer.com
SUMMARY:Euchre Night
DESCRIPTION:Bring a partner and compete for Harmony gift cards! 7pm every Monday
URL:https://harmonybeer.com/event/euchre-night-2/2027-04-26/
END:VEVENT
BEGIN:VEVENT
DTSTART;TZID=America/Detroit:20270428T190000
DTEND;TZID=America/Detroit:20270428T210000
DTSTAMP:20260421T175754
CREATED:20240624T182631Z
LAST-MODIFIED:20240624T182631Z
UID:10203788-1808938800-1808946000@harmonybeer.com
SUMMARY:Trivia Night - QuizQuest
DESCRIPTION:Trivia hosted by QuizQuest every Wednesday 7pm. Compete for Harmony Gift Cards!
URL:https://harmonybeer.com/event/trivia-night-quizquest/2027-04-28/
END:VEVENT
BEGIN:VEVENT
DTSTART;TZID=America/Detroit:20270429T190000
DTEND;TZID=America/Detroit:20270429T213000
DTSTAMP:20260421T175754
CREATED:20231206T151622Z
LAST-MODIFIED:20240528T142151Z
UID:10203270-1809025200-1809034200@harmonybeer.com
SUMMARY:Vinyl Night
DESCRIPTION:Guest Vinyl DJs every thursday 7pm
URL:https://harmonybeer.com/event/vinyl-night/2027-04-29/
END:VEVENT
BEGIN:VEVENT
DTSTART;TZID=America/Detroit:20270502T190000
DTEND;TZID=America/Detroit:20270502T210000
DTSTAMP:20260421T175754
CREATED:20240624T185540Z
LAST-MODIFIED:20240624T185540Z
UID:10204310-1809284400-1809291600@harmonybeer.com
SUMMARY:Trivia Night - Geeks Who Drink
DESCRIPTION:Trivia night with Geeks Who Drink every Sunday 7pm. Compete for Harmony Gift Cards!
URL:https://harmonybeer.com/event/trivia-night-geeks-who-drink/2027-05-02/
END:VEVENT
BEGIN:VEVENT
DTSTART;TZID=America/Detroit:20270503T190000
DTEND;TZID=America/Detroit:20270503T210000
DTSTAMP:20260421T175754
CREATED:20240624T182240Z
LAST-MODIFIED:20240624T182240Z
UID:10203528-1809370800-1809378000@harmonybeer.com
SUMMARY:Euchre Night
DESCRIPTION:Bring a partner and compete for Harmony gift cards! 7pm every Monday
URL:https://harmonybeer.com/event/euchre-night-2/2027-05-03/
END:VEVENT
BEGIN:VEVENT
DTSTART;TZID=America/Detroit:20270505T190000
DTEND;TZID=America/Detroit:20270505T210000
DTSTAMP:20260421T175754
CREATED:20240624T182631Z
LAST-MODIFIED:20240624T182631Z
UID:10203789-1809543600-1809550800@harmonybeer.com
SUMMARY:Trivia Night - QuizQuest
DESCRIPTION:Trivia hosted by QuizQuest every Wednesday 7pm. Compete for Harmony Gift Cards!
URL:https://harmonybeer.com/event/trivia-night-quizquest/2027-05-05/
END:VEVENT
BEGIN:VEVENT
DTSTART;TZID=America/Detroit:20270506T190000
DTEND;TZID=America/Detroit:20270506T213000
DTSTAMP:20260421T175754
CREATED:20231206T151622Z
LAST-MODIFIED:20240528T142151Z
UID:10203271-1809630000-1809639000@harmonybeer.com
SUMMARY:Vinyl Night
DESCRIPTION:Guest Vinyl DJs every thursday 7pm
URL:https://harmonybeer.com/event/vinyl-night/2027-05-06/
END:VEVENT
BEGIN:VEVENT
DTSTART;TZID=America/Detroit:20270509T190000
DTEND;TZID=America/Detroit:20270509T210000
DTSTAMP:20260421T175754
CREATED:20240624T185540Z
LAST-MODIFIED:20240624T185540Z
UID:10204311-1809889200-1809896400@harmonybeer.com
SUMMARY:Trivia Night - Geeks Who Drink
DESCRIPTION:Trivia night with Geeks Who Drink every Sunday 7pm. Compete for Harmony Gift Cards!
URL:https://harmonybeer.com/event/trivia-night-geeks-who-drink/2027-05-09/
END:VEVENT
BEGIN:VEVENT
DTSTART;TZID=America/Detroit:20270510T190000
DTEND;TZID=America/Detroit:20270510T210000
DTSTAMP:20260421T175754
CREATED:20240624T182240Z
LAST-MODIFIED:20240624T182240Z
UID:10203529-1809975600-1809982800@harmonybeer.com
SUMMARY:Euchre Night
DESCRIPTION:Bring a partner and compete for Harmony gift cards! 7pm every Monday
URL:https://harmonybeer.com/event/euchre-night-2/2027-05-10/
END:VEVENT
BEGIN:VEVENT
DTSTART;TZID=America/Detroit:20270512T190000
DTEND;TZID=America/Detroit:20270512T210000
DTSTAMP:20260421T175754
CREATED:20240624T182631Z
LAST-MODIFIED:20240624T182631Z
UID:10203790-1810148400-1810155600@harmonybeer.com
SUMMARY:Trivia Night - QuizQuest
DESCRIPTION:Trivia hosted by QuizQuest every Wednesday 7pm. Compete for Harmony Gift Cards!
URL:https://harmonybeer.com/event/trivia-night-quizquest/2027-05-12/
END:VEVENT
BEGIN:VEVENT
DTSTART;TZID=America/Detroit:20270513T190000
DTEND;TZID=America/Detroit:20270513T213000
DTSTAMP:20260421T175754
CREATED:20231206T151622Z
LAST-MODIFIED:20240528T142151Z
UID:10203272-1810234800-1810243800@harmonybeer.com
SUMMARY:Vinyl Night
DESCRIPTION:Guest Vinyl DJs every thursday 7pm
URL:https://harmonybeer.com/event/vinyl-night/2027-05-13/
END:VEVENT
BEGIN:VEVENT
DTSTART;TZID=America/Detroit:20270516T190000
DTEND;TZID=America/Detroit:20270516T210000
DTSTAMP:20260421T175754
CREATED:20240624T185540Z
LAST-MODIFIED:20240624T185540Z
UID:10204312-1810494000-1810501200@harmonybeer.com
SUMMARY:Trivia Night - Geeks Who Drink
DESCRIPTION:Trivia night with Geeks Who Drink every Sunday 7pm. Compete for Harmony Gift Cards!
URL:https://harmonybeer.com/event/trivia-night-geeks-who-drink/2027-05-16/
END:VEVENT
BEGIN:VEVENT
DTSTART;TZID=America/Detroit:20270517T190000
DTEND;TZID=America/Detroit:20270517T210000
DTSTAMP:20260421T175754
CREATED:20240624T182240Z
LAST-MODIFIED:20240624T182240Z
UID:10203530-1810580400-1810587600@harmonybeer.com
SUMMARY:Euchre Night
DESCRIPTION:Bring a partner and compete for Harmony gift cards! 7pm every Monday
URL:https://harmonybeer.com/event/euchre-night-2/2027-05-17/
END:VEVENT
BEGIN:VEVENT
DTSTART;TZID=America/Detroit:20270519T190000
DTEND;TZID=America/Detroit:20270519T210000
DTSTAMP:20260421T175754
CREATED:20240624T182631Z
LAST-MODIFIED:20240624T182631Z
UID:10203791-1810753200-1810760400@harmonybeer.com
SUMMARY:Trivia Night - QuizQuest
DESCRIPTION:Trivia hosted by QuizQuest every Wednesday 7pm. Compete for Harmony Gift Cards!
URL:https://harmonybeer.com/event/trivia-night-quizquest/2027-05-19/
END:VEVENT
BEGIN:VEVENT
DTSTART;TZID=America/Detroit:20270520T190000
DTEND;TZID=America/Detroit:20270520T213000
DTSTAMP:20260421T175754
CREATED:20231206T151622Z
LAST-MODIFIED:20240528T142151Z
UID:10203273-1810839600-1810848600@harmonybeer.com
SUMMARY:Vinyl Night
DESCRIPTION:Guest Vinyl DJs every thursday 7pm
URL:https://harmonybeer.com/event/vinyl-night/2027-05-20/
END:VEVENT
BEGIN:VEVENT
DTSTART;TZID=America/Detroit:20270523T190000
DTEND;TZID=America/Detroit:20270523T210000
DTSTAMP:20260421T175754
CREATED:20240624T185540Z
LAST-MODIFIED:20240624T185540Z
UID:10204313-1811098800-1811106000@harmonybeer.com
SUMMARY:Trivia Night - Geeks Who Drink
DESCRIPTION:Trivia night with Geeks Who Drink every Sunday 7pm. Compete for Harmony Gift Cards!
URL:https://harmonybeer.com/event/trivia-night-geeks-who-drink/2027-05-23/
END:VEVENT
BEGIN:VEVENT
DTSTART;TZID=America/Detroit:20270524T190000
DTEND;TZID=America/Detroit:20270524T210000
DTSTAMP:20260421T175754
CREATED:20240624T182240Z
LAST-MODIFIED:20240624T182240Z
UID:10203531-1811185200-1811192400@harmonybeer.com
SUMMARY:Euchre Night
DESCRIPTION:Bring a partner and compete for Harmony gift cards! 7pm every Monday
URL:https://harmonybeer.com/event/euchre-night-2/2027-05-24/
END:VEVENT
BEGIN:VEVENT
DTSTART;TZID=America/Detroit:20270526T190000
DTEND;TZID=America/Detroit:20270526T210000
DTSTAMP:20260421T175754
CREATED:20240624T182631Z
LAST-MODIFIED:20240624T182631Z
UID:10203792-1811358000-1811365200@harmonybeer.com
SUMMARY:Trivia Night - QuizQuest
DESCRIPTION:Trivia hosted by QuizQuest every Wednesday 7pm. Compete for Harmony Gift Cards!
URL:https://harmonybeer.com/event/trivia-night-quizquest/2027-05-26/
END:VEVENT
BEGIN:VEVENT
DTSTART;TZID=America/Detroit:20270527T190000
DTEND;TZID=America/Detroit:20270527T213000
DTSTAMP:20260421T175754
CREATED:20231206T151622Z
LAST-MODIFIED:20240528T142151Z
UID:10203274-1811444400-1811453400@harmonybeer.com
SUMMARY:Vinyl Night
DESCRIPTION:Guest Vinyl DJs every thursday 7pm
URL:https://harmonybeer.com/event/vinyl-night/2027-05-27/
END:VEVENT
BEGIN:VEVENT
DTSTART;TZID=America/Detroit:20270530T190000
DTEND;TZID=America/Detroit:20270530T210000
DTSTAMP:20260421T175754
CREATED:20240624T185540Z
LAST-MODIFIED:20240624T185540Z
UID:10204314-1811703600-1811710800@harmonybeer.com
SUMMARY:Trivia Night - Geeks Who Drink
DESCRIPTION:Trivia night with Geeks Who Drink every Sunday 7pm. Compete for Harmony Gift Cards!
URL:https://harmonybeer.com/event/trivia-night-geeks-who-drink/2027-05-30/
END:VEVENT
BEGIN:VEVENT
DTSTART;TZID=America/Detroit:20270531T190000
DTEND;TZID=America/Detroit:20270531T210000
DTSTAMP:20260421T175754
CREATED:20240624T182240Z
LAST-MODIFIED:20240624T182240Z
UID:10203532-1811790000-1811797200@harmonybeer.com
SUMMARY:Euchre Night
DESCRIPTION:Bring a partner and compete for Harmony gift cards! 7pm every Monday
URL:https://harmonybeer.com/event/euchre-night-2/2027-05-31/
END:VEVENT
BEGIN:VEVENT
DTSTART;TZID=America/Detroit:20270602T190000
DTEND;TZID=America/Detroit:20270602T210000
DTSTAMP:20260421T175754
CREATED:20240624T182631Z
LAST-MODIFIED:20240624T182631Z
UID:10203793-1811962800-1811970000@harmonybeer.com
SUMMARY:Trivia Night - QuizQuest
DESCRIPTION:Trivia hosted by QuizQuest every Wednesday 7pm. Compete for Harmony Gift Cards!
URL:https://harmonybeer.com/event/trivia-night-quizquest/2027-06-02/
END:VEVENT
BEGIN:VEVENT
DTSTART;TZID=America/Detroit:20270603T190000
DTEND;TZID=America/Detroit:20270603T213000
DTSTAMP:20260421T175754
CREATED:20231206T151622Z
LAST-MODIFIED:20240528T142151Z
UID:10203275-1812049200-1812058200@harmonybeer.com
SUMMARY:Vinyl Night
DESCRIPTION:Guest Vinyl DJs every thursday 7pm
URL:https://harmonybeer.com/event/vinyl-night/2027-06-03/
END:VEVENT
BEGIN:VEVENT
DTSTART;TZID=America/Detroit:20270606T190000
DTEND;TZID=America/Detroit:20270606T210000
DTSTAMP:20260421T175754
CREATED:20240624T185540Z
LAST-MODIFIED:20240624T185540Z
UID:10204315-1812308400-1812315600@harmonybeer.com
SUMMARY:Trivia Night - Geeks Who Drink
DESCRIPTION:Trivia night with Geeks Who Drink every Sunday 7pm. Compete for Harmony Gift Cards!
URL:https://harmonybeer.com/event/trivia-night-geeks-who-drink/2027-06-06/
END:VEVENT
BEGIN:VEVENT
DTSTART;TZID=America/Detroit:20270607T190000
DTEND;TZID=America/Detroit:20270607T210000
DTSTAMP:20260421T175754
CREATED:20240624T182240Z
LAST-MODIFIED:20240624T182240Z
UID:10203533-1812394800-1812402000@harmonybeer.com
SUMMARY:Euchre Night
DESCRIPTION:Bring a partner and compete for Harmony gift cards! 7pm every Monday
URL:https://harmonybeer.com/event/euchre-night-2/2027-06-07/
END:VEVENT
BEGIN:VEVENT
DTSTART;TZID=America/Detroit:20270609T190000
DTEND;TZID=America/Detroit:20270609T210000
DTSTAMP:20260421T175754
CREATED:20240624T182631Z
LAST-MODIFIED:20240624T182631Z
UID:10203794-1812567600-1812574800@harmonybeer.com
SUMMARY:Trivia Night - QuizQuest
DESCRIPTION:Trivia hosted by QuizQuest every Wednesday 7pm. Compete for Harmony Gift Cards!
URL:https://harmonybeer.com/event/trivia-night-quizquest/2027-06-09/
END:VEVENT
BEGIN:VEVENT
DTSTART;TZID=America/Detroit:20270610T190000
DTEND;TZID=America/Detroit:20270610T213000
DTSTAMP:20260421T175754
CREATED:20231206T151622Z
LAST-MODIFIED:20240528T142151Z
UID:10203276-1812654000-1812663000@harmonybeer.com
SUMMARY:Vinyl Night
DESCRIPTION:Guest Vinyl DJs every thursday 7pm
URL:https://harmonybeer.com/event/vinyl-night/2027-06-10/
END:VEVENT
END:VCALENDAR