BEGIN:VCALENDAR
VERSION:2.0
PRODID:-//Harmony Beer - ECPv6.15.20//NONSGML v1.0//EN
CALSCALE:GREGORIAN
METHOD:PUBLISH
X-ORIGINAL-URL:https://harmonybeer.com
X-WR-CALDESC:Events for Harmony Beer
REFRESH-INTERVAL;VALUE=DURATION:PT1H
X-Robots-Tag:noindex
X-PUBLISHED-TTL:PT1H
BEGIN:VTIMEZONE
TZID:America/Detroit
BEGIN:DAYLIGHT
TZOFFSETFROM:-0500
TZOFFSETTO:-0400
TZNAME:EDT
DTSTART:20260308T070000
END:DAYLIGHT
BEGIN:STANDARD
TZOFFSETFROM:-0400
TZOFFSETTO:-0500
TZNAME:EST
DTSTART:20261101T060000
END:STANDARD
BEGIN:DAYLIGHT
TZOFFSETFROM:-0500
TZOFFSETTO:-0400
TZNAME:EDT
DTSTART:20270314T070000
END:DAYLIGHT
BEGIN:STANDARD
TZOFFSETFROM:-0400
TZOFFSETTO:-0500
TZNAME:EST
DTSTART:20271107T060000
END:STANDARD
BEGIN:DAYLIGHT
TZOFFSETFROM:-0500
TZOFFSETTO:-0400
TZNAME:EDT
DTSTART:20280312T070000
END:DAYLIGHT
BEGIN:STANDARD
TZOFFSETFROM:-0400
TZOFFSETTO:-0500
TZNAME:EST
DTSTART:20281105T060000
END:STANDARD
END:VTIMEZONE
BEGIN:VEVENT
DTSTART;TZID=America/Detroit:20271031T190000
DTEND;TZID=America/Detroit:20271031T210000
DTSTAMP:20260422T185641
CREATED:20240624T185540Z
LAST-MODIFIED:20240624T185540Z
UID:10204336-1825009200-1825016400@harmonybeer.com
SUMMARY:Trivia Night - Geeks Who Drink
DESCRIPTION:Trivia night with Geeks Who Drink every Sunday 7pm. Compete for Harmony Gift Cards!
URL:https://harmonybeer.com/event/trivia-night-geeks-who-drink/2027-10-31/
END:VEVENT
BEGIN:VEVENT
DTSTART;TZID=America/Detroit:20271101T190000
DTEND;TZID=America/Detroit:20271101T210000
DTSTAMP:20260422T185641
CREATED:20240624T182240Z
LAST-MODIFIED:20240624T182240Z
UID:10203554-1825095600-1825102800@harmonybeer.com
SUMMARY:Euchre Night
DESCRIPTION:Bring a partner and compete for Harmony gift cards! 7pm every Monday
URL:https://harmonybeer.com/event/euchre-night-2/2027-11-01/
END:VEVENT
BEGIN:VEVENT
DTSTART;TZID=America/Detroit:20271103T190000
DTEND;TZID=America/Detroit:20271103T210000
DTSTAMP:20260422T185641
CREATED:20240624T182631Z
LAST-MODIFIED:20240624T182631Z
UID:10203815-1825268400-1825275600@harmonybeer.com
SUMMARY:Trivia Night - QuizQuest
DESCRIPTION:Trivia hosted by QuizQuest every Wednesday 7pm. Compete for Harmony Gift Cards!
URL:https://harmonybeer.com/event/trivia-night-quizquest/2027-11-03/
END:VEVENT
BEGIN:VEVENT
DTSTART;TZID=America/Detroit:20271104T190000
DTEND;TZID=America/Detroit:20271104T213000
DTSTAMP:20260422T185641
CREATED:20231206T151622Z
LAST-MODIFIED:20240528T142151Z
UID:10203297-1825354800-1825363800@harmonybeer.com
SUMMARY:Vinyl Night
DESCRIPTION:Guest Vinyl DJs every thursday 7pm
URL:https://harmonybeer.com/event/vinyl-night/2027-11-04/
END:VEVENT
BEGIN:VEVENT
DTSTART;TZID=America/Detroit:20271107T190000
DTEND;TZID=America/Detroit:20271107T210000
DTSTAMP:20260422T185641
CREATED:20240624T185540Z
LAST-MODIFIED:20240624T185540Z
UID:10204337-1825614000-1825621200@harmonybeer.com
SUMMARY:Trivia Night - Geeks Who Drink
DESCRIPTION:Trivia night with Geeks Who Drink every Sunday 7pm. Compete for Harmony Gift Cards!
URL:https://harmonybeer.com/event/trivia-night-geeks-who-drink/2027-11-07/
END:VEVENT
BEGIN:VEVENT
DTSTART;TZID=America/Detroit:20271108T190000
DTEND;TZID=America/Detroit:20271108T210000
DTSTAMP:20260422T185641
CREATED:20240624T182240Z
LAST-MODIFIED:20240624T182240Z
UID:10203555-1825700400-1825707600@harmonybeer.com
SUMMARY:Euchre Night
DESCRIPTION:Bring a partner and compete for Harmony gift cards! 7pm every Monday
URL:https://harmonybeer.com/event/euchre-night-2/2027-11-08/
END:VEVENT
BEGIN:VEVENT
DTSTART;TZID=America/Detroit:20271110T190000
DTEND;TZID=America/Detroit:20271110T210000
DTSTAMP:20260422T185641
CREATED:20240624T182631Z
LAST-MODIFIED:20240624T182631Z
UID:10203816-1825873200-1825880400@harmonybeer.com
SUMMARY:Trivia Night - QuizQuest
DESCRIPTION:Trivia hosted by QuizQuest every Wednesday 7pm. Compete for Harmony Gift Cards!
URL:https://harmonybeer.com/event/trivia-night-quizquest/2027-11-10/
END:VEVENT
BEGIN:VEVENT
DTSTART;TZID=America/Detroit:20271111T190000
DTEND;TZID=America/Detroit:20271111T213000
DTSTAMP:20260422T185641
CREATED:20231206T151622Z
LAST-MODIFIED:20240528T142151Z
UID:10203298-1825959600-1825968600@harmonybeer.com
SUMMARY:Vinyl Night
DESCRIPTION:Guest Vinyl DJs every thursday 7pm
URL:https://harmonybeer.com/event/vinyl-night/2027-11-11/
END:VEVENT
BEGIN:VEVENT
DTSTART;TZID=America/Detroit:20271114T190000
DTEND;TZID=America/Detroit:20271114T210000
DTSTAMP:20260422T185641
CREATED:20240624T185540Z
LAST-MODIFIED:20240624T185540Z
UID:10204338-1826218800-1826226000@harmonybeer.com
SUMMARY:Trivia Night - Geeks Who Drink
DESCRIPTION:Trivia night with Geeks Who Drink every Sunday 7pm. Compete for Harmony Gift Cards!
URL:https://harmonybeer.com/event/trivia-night-geeks-who-drink/2027-11-14/
END:VEVENT
BEGIN:VEVENT
DTSTART;TZID=America/Detroit:20271115T190000
DTEND;TZID=America/Detroit:20271115T210000
DTSTAMP:20260422T185641
CREATED:20240624T182240Z
LAST-MODIFIED:20240624T182240Z
UID:10203556-1826305200-1826312400@harmonybeer.com
SUMMARY:Euchre Night
DESCRIPTION:Bring a partner and compete for Harmony gift cards! 7pm every Monday
URL:https://harmonybeer.com/event/euchre-night-2/2027-11-15/
END:VEVENT
BEGIN:VEVENT
DTSTART;TZID=America/Detroit:20271117T190000
DTEND;TZID=America/Detroit:20271117T210000
DTSTAMP:20260422T185641
CREATED:20240624T182631Z
LAST-MODIFIED:20240624T182631Z
UID:10203817-1826478000-1826485200@harmonybeer.com
SUMMARY:Trivia Night - QuizQuest
DESCRIPTION:Trivia hosted by QuizQuest every Wednesday 7pm. Compete for Harmony Gift Cards!
URL:https://harmonybeer.com/event/trivia-night-quizquest/2027-11-17/
END:VEVENT
BEGIN:VEVENT
DTSTART;TZID=America/Detroit:20271118T190000
DTEND;TZID=America/Detroit:20271118T213000
DTSTAMP:20260422T185641
CREATED:20231206T151622Z
LAST-MODIFIED:20240528T142151Z
UID:10203299-1826564400-1826573400@harmonybeer.com
SUMMARY:Vinyl Night
DESCRIPTION:Guest Vinyl DJs every thursday 7pm
URL:https://harmonybeer.com/event/vinyl-night/2027-11-18/
END:VEVENT
BEGIN:VEVENT
DTSTART;TZID=America/Detroit:20271121T190000
DTEND;TZID=America/Detroit:20271121T210000
DTSTAMP:20260422T185641
CREATED:20240624T185540Z
LAST-MODIFIED:20240624T185540Z
UID:10204339-1826823600-1826830800@harmonybeer.com
SUMMARY:Trivia Night - Geeks Who Drink
DESCRIPTION:Trivia night with Geeks Who Drink every Sunday 7pm. Compete for Harmony Gift Cards!
URL:https://harmonybeer.com/event/trivia-night-geeks-who-drink/2027-11-21/
END:VEVENT
BEGIN:VEVENT
DTSTART;TZID=America/Detroit:20271122T190000
DTEND;TZID=America/Detroit:20271122T210000
DTSTAMP:20260422T185641
CREATED:20240624T182240Z
LAST-MODIFIED:20240624T182240Z
UID:10203557-1826910000-1826917200@harmonybeer.com
SUMMARY:Euchre Night
DESCRIPTION:Bring a partner and compete for Harmony gift cards! 7pm every Monday
URL:https://harmonybeer.com/event/euchre-night-2/2027-11-22/
END:VEVENT
BEGIN:VEVENT
DTSTART;TZID=America/Detroit:20271124T190000
DTEND;TZID=America/Detroit:20271124T210000
DTSTAMP:20260422T185641
CREATED:20240624T182631Z
LAST-MODIFIED:20240624T182631Z
UID:10203818-1827082800-1827090000@harmonybeer.com
SUMMARY:Trivia Night - QuizQuest
DESCRIPTION:Trivia hosted by QuizQuest every Wednesday 7pm. Compete for Harmony Gift Cards!
URL:https://harmonybeer.com/event/trivia-night-quizquest/2027-11-24/
END:VEVENT
BEGIN:VEVENT
DTSTART;TZID=America/Detroit:20271125T190000
DTEND;TZID=America/Detroit:20271125T213000
DTSTAMP:20260422T185641
CREATED:20231206T151622Z
LAST-MODIFIED:20240528T142151Z
UID:10203300-1827169200-1827178200@harmonybeer.com
SUMMARY:Vinyl Night
DESCRIPTION:Guest Vinyl DJs every thursday 7pm
URL:https://harmonybeer.com/event/vinyl-night/2027-11-25/
END:VEVENT
BEGIN:VEVENT
DTSTART;TZID=America/Detroit:20271128T190000
DTEND;TZID=America/Detroit:20271128T210000
DTSTAMP:20260422T185641
CREATED:20240624T185540Z
LAST-MODIFIED:20240624T185540Z
UID:10204340-1827428400-1827435600@harmonybeer.com
SUMMARY:Trivia Night - Geeks Who Drink
DESCRIPTION:Trivia night with Geeks Who Drink every Sunday 7pm. Compete for Harmony Gift Cards!
URL:https://harmonybeer.com/event/trivia-night-geeks-who-drink/2027-11-28/
END:VEVENT
BEGIN:VEVENT
DTSTART;TZID=America/Detroit:20271129T190000
DTEND;TZID=America/Detroit:20271129T210000
DTSTAMP:20260422T185641
CREATED:20240624T182240Z
LAST-MODIFIED:20240624T182240Z
UID:10203558-1827514800-1827522000@harmonybeer.com
SUMMARY:Euchre Night
DESCRIPTION:Bring a partner and compete for Harmony gift cards! 7pm every Monday
URL:https://harmonybeer.com/event/euchre-night-2/2027-11-29/
END:VEVENT
BEGIN:VEVENT
DTSTART;TZID=America/Detroit:20271201T190000
DTEND;TZID=America/Detroit:20271201T210000
DTSTAMP:20260422T185641
CREATED:20240624T182631Z
LAST-MODIFIED:20240624T182631Z
UID:10203819-1827687600-1827694800@harmonybeer.com
SUMMARY:Trivia Night - QuizQuest
DESCRIPTION:Trivia hosted by QuizQuest every Wednesday 7pm. Compete for Harmony Gift Cards!
URL:https://harmonybeer.com/event/trivia-night-quizquest/2027-12-01/
END:VEVENT
BEGIN:VEVENT
DTSTART;TZID=America/Detroit:20271202T190000
DTEND;TZID=America/Detroit:20271202T213000
DTSTAMP:20260422T185641
CREATED:20231206T151622Z
LAST-MODIFIED:20240528T142151Z
UID:10203301-1827774000-1827783000@harmonybeer.com
SUMMARY:Vinyl Night
DESCRIPTION:Guest Vinyl DJs every thursday 7pm
URL:https://harmonybeer.com/event/vinyl-night/2027-12-02/
END:VEVENT
BEGIN:VEVENT
DTSTART;TZID=America/Detroit:20271205T190000
DTEND;TZID=America/Detroit:20271205T210000
DTSTAMP:20260422T185641
CREATED:20240624T185540Z
LAST-MODIFIED:20240624T185540Z
UID:10204341-1828033200-1828040400@harmonybeer.com
SUMMARY:Trivia Night - Geeks Who Drink
DESCRIPTION:Trivia night with Geeks Who Drink every Sunday 7pm. Compete for Harmony Gift Cards!
URL:https://harmonybeer.com/event/trivia-night-geeks-who-drink/2027-12-05/
END:VEVENT
BEGIN:VEVENT
DTSTART;TZID=America/Detroit:20271206T190000
DTEND;TZID=America/Detroit:20271206T210000
DTSTAMP:20260422T185641
CREATED:20240624T182240Z
LAST-MODIFIED:20240624T182240Z
UID:10203559-1828119600-1828126800@harmonybeer.com
SUMMARY:Euchre Night
DESCRIPTION:Bring a partner and compete for Harmony gift cards! 7pm every Monday
URL:https://harmonybeer.com/event/euchre-night-2/2027-12-06/
END:VEVENT
BEGIN:VEVENT
DTSTART;TZID=America/Detroit:20271208T190000
DTEND;TZID=America/Detroit:20271208T210000
DTSTAMP:20260422T185641
CREATED:20240624T182631Z
LAST-MODIFIED:20240624T182631Z
UID:10203820-1828292400-1828299600@harmonybeer.com
SUMMARY:Trivia Night - QuizQuest
DESCRIPTION:Trivia hosted by QuizQuest every Wednesday 7pm. Compete for Harmony Gift Cards!
URL:https://harmonybeer.com/event/trivia-night-quizquest/2027-12-08/
END:VEVENT
BEGIN:VEVENT
DTSTART;TZID=America/Detroit:20271209T190000
DTEND;TZID=America/Detroit:20271209T213000
DTSTAMP:20260422T185641
CREATED:20231206T151622Z
LAST-MODIFIED:20240528T142151Z
UID:10203302-1828378800-1828387800@harmonybeer.com
SUMMARY:Vinyl Night
DESCRIPTION:Guest Vinyl DJs every thursday 7pm
URL:https://harmonybeer.com/event/vinyl-night/2027-12-09/
END:VEVENT
BEGIN:VEVENT
DTSTART;TZID=America/Detroit:20271212T190000
DTEND;TZID=America/Detroit:20271212T210000
DTSTAMP:20260422T185641
CREATED:20240624T185540Z
LAST-MODIFIED:20240624T185540Z
UID:10204342-1828638000-1828645200@harmonybeer.com
SUMMARY:Trivia Night - Geeks Who Drink
DESCRIPTION:Trivia night with Geeks Who Drink every Sunday 7pm. Compete for Harmony Gift Cards!
URL:https://harmonybeer.com/event/trivia-night-geeks-who-drink/2027-12-12/
END:VEVENT
BEGIN:VEVENT
DTSTART;TZID=America/Detroit:20271213T190000
DTEND;TZID=America/Detroit:20271213T210000
DTSTAMP:20260422T185641
CREATED:20240624T182240Z
LAST-MODIFIED:20240624T182240Z
UID:10203560-1828724400-1828731600@harmonybeer.com
SUMMARY:Euchre Night
DESCRIPTION:Bring a partner and compete for Harmony gift cards! 7pm every Monday
URL:https://harmonybeer.com/event/euchre-night-2/2027-12-13/
END:VEVENT
BEGIN:VEVENT
DTSTART;TZID=America/Detroit:20271215T190000
DTEND;TZID=America/Detroit:20271215T210000
DTSTAMP:20260422T185641
CREATED:20240624T182631Z
LAST-MODIFIED:20240624T182631Z
UID:10203821-1828897200-1828904400@harmonybeer.com
SUMMARY:Trivia Night - QuizQuest
DESCRIPTION:Trivia hosted by QuizQuest every Wednesday 7pm. Compete for Harmony Gift Cards!
URL:https://harmonybeer.com/event/trivia-night-quizquest/2027-12-15/
END:VEVENT
BEGIN:VEVENT
DTSTART;TZID=America/Detroit:20271216T190000
DTEND;TZID=America/Detroit:20271216T213000
DTSTAMP:20260422T185641
CREATED:20231206T151622Z
LAST-MODIFIED:20240528T142151Z
UID:10203303-1828983600-1828992600@harmonybeer.com
SUMMARY:Vinyl Night
DESCRIPTION:Guest Vinyl DJs every thursday 7pm
URL:https://harmonybeer.com/event/vinyl-night/2027-12-16/
END:VEVENT
BEGIN:VEVENT
DTSTART;TZID=America/Detroit:20271219T190000
DTEND;TZID=America/Detroit:20271219T210000
DTSTAMP:20260422T185641
CREATED:20240624T185540Z
LAST-MODIFIED:20240624T185540Z
UID:10204343-1829242800-1829250000@harmonybeer.com
SUMMARY:Trivia Night - Geeks Who Drink
DESCRIPTION:Trivia night with Geeks Who Drink every Sunday 7pm. Compete for Harmony Gift Cards!
URL:https://harmonybeer.com/event/trivia-night-geeks-who-drink/2027-12-19/
END:VEVENT
BEGIN:VEVENT
DTSTART;TZID=America/Detroit:20271220T190000
DTEND;TZID=America/Detroit:20271220T210000
DTSTAMP:20260422T185641
CREATED:20240624T182240Z
LAST-MODIFIED:20240624T182240Z
UID:10203561-1829329200-1829336400@harmonybeer.com
SUMMARY:Euchre Night
DESCRIPTION:Bring a partner and compete for Harmony gift cards! 7pm every Monday
URL:https://harmonybeer.com/event/euchre-night-2/2027-12-20/
END:VEVENT
END:VCALENDAR