BEGIN:VCALENDAR
VERSION:2.0
PRODID:-//Harmony Beer - ECPv6.15.20//NONSGML v1.0//EN
CALSCALE:GREGORIAN
METHOD:PUBLISH
X-WR-CALNAME:Harmony Beer
X-ORIGINAL-URL:https://harmonybeer.com
X-WR-CALDESC:Events for Harmony Beer
REFRESH-INTERVAL;VALUE=DURATION:PT1H
X-Robots-Tag:noindex
X-PUBLISHED-TTL:PT1H
BEGIN:VTIMEZONE
TZID:America/Detroit
BEGIN:DAYLIGHT
TZOFFSETFROM:-0500
TZOFFSETTO:-0400
TZNAME:EDT
DTSTART:20270314T070000
END:DAYLIGHT
BEGIN:STANDARD
TZOFFSETFROM:-0400
TZOFFSETTO:-0500
TZNAME:EST
DTSTART:20271107T060000
END:STANDARD
BEGIN:DAYLIGHT
TZOFFSETFROM:-0500
TZOFFSETTO:-0400
TZNAME:EDT
DTSTART:20280312T070000
END:DAYLIGHT
BEGIN:STANDARD
TZOFFSETFROM:-0400
TZOFFSETTO:-0500
TZNAME:EST
DTSTART:20281105T060000
END:STANDARD
BEGIN:DAYLIGHT
TZOFFSETFROM:-0500
TZOFFSETTO:-0400
TZNAME:EDT
DTSTART:20290311T070000
END:DAYLIGHT
BEGIN:STANDARD
TZOFFSETFROM:-0400
TZOFFSETTO:-0500
TZNAME:EST
DTSTART:20291104T060000
END:STANDARD
END:VTIMEZONE
BEGIN:VEVENT
DTSTART;TZID=America/Detroit:20280405T190000
DTEND;TZID=America/Detroit:20280405T210000
DTSTAMP:20260423T032626
CREATED:20240624T182631Z
LAST-MODIFIED:20240624T182631Z
UID:10203837-1838574000-1838581200@harmonybeer.com
SUMMARY:Trivia Night - QuizQuest
DESCRIPTION:Trivia hosted by QuizQuest every Wednesday 7pm. Compete for Harmony Gift Cards!
URL:https://harmonybeer.com/event/trivia-night-quizquest/2028-04-05/
END:VEVENT
BEGIN:VEVENT
DTSTART;TZID=America/Detroit:20280406T190000
DTEND;TZID=America/Detroit:20280406T213000
DTSTAMP:20260423T032627
CREATED:20231206T151622Z
LAST-MODIFIED:20240528T142151Z
UID:10203319-1838660400-1838669400@harmonybeer.com
SUMMARY:Vinyl Night
DESCRIPTION:Guest Vinyl DJs every thursday 7pm
URL:https://harmonybeer.com/event/vinyl-night/2028-04-06/
END:VEVENT
BEGIN:VEVENT
DTSTART;TZID=America/Detroit:20280409T190000
DTEND;TZID=America/Detroit:20280409T210000
DTSTAMP:20260423T032627
CREATED:20240624T185540Z
LAST-MODIFIED:20240624T185540Z
UID:10204359-1838919600-1838926800@harmonybeer.com
SUMMARY:Trivia Night - Geeks Who Drink
DESCRIPTION:Trivia night with Geeks Who Drink every Sunday 7pm. Compete for Harmony Gift Cards!
URL:https://harmonybeer.com/event/trivia-night-geeks-who-drink/2028-04-09/
END:VEVENT
BEGIN:VEVENT
DTSTART;TZID=America/Detroit:20280410T190000
DTEND;TZID=America/Detroit:20280410T210000
DTSTAMP:20260423T032627
CREATED:20240624T182240Z
LAST-MODIFIED:20240624T182240Z
UID:10203577-1839006000-1839013200@harmonybeer.com
SUMMARY:Euchre Night
DESCRIPTION:Bring a partner and compete for Harmony gift cards! 7pm every Monday
URL:https://harmonybeer.com/event/euchre-night-2/2028-04-10/
END:VEVENT
BEGIN:VEVENT
DTSTART;TZID=America/Detroit:20280412T190000
DTEND;TZID=America/Detroit:20280412T210000
DTSTAMP:20260423T032627
CREATED:20240624T182631Z
LAST-MODIFIED:20240624T182631Z
UID:10203838-1839178800-1839186000@harmonybeer.com
SUMMARY:Trivia Night - QuizQuest
DESCRIPTION:Trivia hosted by QuizQuest every Wednesday 7pm. Compete for Harmony Gift Cards!
URL:https://harmonybeer.com/event/trivia-night-quizquest/2028-04-12/
END:VEVENT
BEGIN:VEVENT
DTSTART;TZID=America/Detroit:20280413T190000
DTEND;TZID=America/Detroit:20280413T213000
DTSTAMP:20260423T032627
CREATED:20231206T151622Z
LAST-MODIFIED:20240528T142151Z
UID:10203320-1839265200-1839274200@harmonybeer.com
SUMMARY:Vinyl Night
DESCRIPTION:Guest Vinyl DJs every thursday 7pm
URL:https://harmonybeer.com/event/vinyl-night/2028-04-13/
END:VEVENT
BEGIN:VEVENT
DTSTART;TZID=America/Detroit:20280416T190000
DTEND;TZID=America/Detroit:20280416T210000
DTSTAMP:20260423T032627
CREATED:20240624T185540Z
LAST-MODIFIED:20240624T185540Z
UID:10204360-1839524400-1839531600@harmonybeer.com
SUMMARY:Trivia Night - Geeks Who Drink
DESCRIPTION:Trivia night with Geeks Who Drink every Sunday 7pm. Compete for Harmony Gift Cards!
URL:https://harmonybeer.com/event/trivia-night-geeks-who-drink/2028-04-16/
END:VEVENT
BEGIN:VEVENT
DTSTART;TZID=America/Detroit:20280417T190000
DTEND;TZID=America/Detroit:20280417T210000
DTSTAMP:20260423T032627
CREATED:20240624T182240Z
LAST-MODIFIED:20240624T182240Z
UID:10203578-1839610800-1839618000@harmonybeer.com
SUMMARY:Euchre Night
DESCRIPTION:Bring a partner and compete for Harmony gift cards! 7pm every Monday
URL:https://harmonybeer.com/event/euchre-night-2/2028-04-17/
END:VEVENT
BEGIN:VEVENT
DTSTART;TZID=America/Detroit:20280419T190000
DTEND;TZID=America/Detroit:20280419T210000
DTSTAMP:20260423T032627
CREATED:20240624T182631Z
LAST-MODIFIED:20240624T182631Z
UID:10203839-1839783600-1839790800@harmonybeer.com
SUMMARY:Trivia Night - QuizQuest
DESCRIPTION:Trivia hosted by QuizQuest every Wednesday 7pm. Compete for Harmony Gift Cards!
URL:https://harmonybeer.com/event/trivia-night-quizquest/2028-04-19/
END:VEVENT
BEGIN:VEVENT
DTSTART;TZID=America/Detroit:20280420T190000
DTEND;TZID=America/Detroit:20280420T213000
DTSTAMP:20260423T032627
CREATED:20231206T151622Z
LAST-MODIFIED:20240528T142151Z
UID:10203321-1839870000-1839879000@harmonybeer.com
SUMMARY:Vinyl Night
DESCRIPTION:Guest Vinyl DJs every thursday 7pm
URL:https://harmonybeer.com/event/vinyl-night/2028-04-20/
END:VEVENT
BEGIN:VEVENT
DTSTART;TZID=America/Detroit:20280423T190000
DTEND;TZID=America/Detroit:20280423T210000
DTSTAMP:20260423T032627
CREATED:20240624T185540Z
LAST-MODIFIED:20240624T185540Z
UID:10204361-1840129200-1840136400@harmonybeer.com
SUMMARY:Trivia Night - Geeks Who Drink
DESCRIPTION:Trivia night with Geeks Who Drink every Sunday 7pm. Compete for Harmony Gift Cards!
URL:https://harmonybeer.com/event/trivia-night-geeks-who-drink/2028-04-23/
END:VEVENT
BEGIN:VEVENT
DTSTART;TZID=America/Detroit:20280424T190000
DTEND;TZID=America/Detroit:20280424T210000
DTSTAMP:20260423T032627
CREATED:20240624T182240Z
LAST-MODIFIED:20240624T182240Z
UID:10203579-1840215600-1840222800@harmonybeer.com
SUMMARY:Euchre Night
DESCRIPTION:Bring a partner and compete for Harmony gift cards! 7pm every Monday
URL:https://harmonybeer.com/event/euchre-night-2/2028-04-24/
END:VEVENT
BEGIN:VEVENT
DTSTART;TZID=America/Detroit:20280426T190000
DTEND;TZID=America/Detroit:20280426T210000
DTSTAMP:20260423T032627
CREATED:20240624T182631Z
LAST-MODIFIED:20240624T182631Z
UID:10203840-1840388400-1840395600@harmonybeer.com
SUMMARY:Trivia Night - QuizQuest
DESCRIPTION:Trivia hosted by QuizQuest every Wednesday 7pm. Compete for Harmony Gift Cards!
URL:https://harmonybeer.com/event/trivia-night-quizquest/2028-04-26/
END:VEVENT
BEGIN:VEVENT
DTSTART;TZID=America/Detroit:20280427T190000
DTEND;TZID=America/Detroit:20280427T213000
DTSTAMP:20260423T032627
CREATED:20231206T151622Z
LAST-MODIFIED:20240528T142151Z
UID:10203322-1840474800-1840483800@harmonybeer.com
SUMMARY:Vinyl Night
DESCRIPTION:Guest Vinyl DJs every thursday 7pm
URL:https://harmonybeer.com/event/vinyl-night/2028-04-27/
END:VEVENT
BEGIN:VEVENT
DTSTART;TZID=America/Detroit:20280430T190000
DTEND;TZID=America/Detroit:20280430T210000
DTSTAMP:20260423T032627
CREATED:20240624T185540Z
LAST-MODIFIED:20240624T185540Z
UID:10204362-1840734000-1840741200@harmonybeer.com
SUMMARY:Trivia Night - Geeks Who Drink
DESCRIPTION:Trivia night with Geeks Who Drink every Sunday 7pm. Compete for Harmony Gift Cards!
URL:https://harmonybeer.com/event/trivia-night-geeks-who-drink/2028-04-30/
END:VEVENT
BEGIN:VEVENT
DTSTART;TZID=America/Detroit:20280501T190000
DTEND;TZID=America/Detroit:20280501T210000
DTSTAMP:20260423T032627
CREATED:20240624T182240Z
LAST-MODIFIED:20240624T182240Z
UID:10203580-1840820400-1840827600@harmonybeer.com
SUMMARY:Euchre Night
DESCRIPTION:Bring a partner and compete for Harmony gift cards! 7pm every Monday
URL:https://harmonybeer.com/event/euchre-night-2/2028-05-01/
END:VEVENT
BEGIN:VEVENT
DTSTART;TZID=America/Detroit:20280503T190000
DTEND;TZID=America/Detroit:20280503T210000
DTSTAMP:20260423T032627
CREATED:20240624T182631Z
LAST-MODIFIED:20240624T182631Z
UID:10203841-1840993200-1841000400@harmonybeer.com
SUMMARY:Trivia Night - QuizQuest
DESCRIPTION:Trivia hosted by QuizQuest every Wednesday 7pm. Compete for Harmony Gift Cards!
URL:https://harmonybeer.com/event/trivia-night-quizquest/2028-05-03/
END:VEVENT
BEGIN:VEVENT
DTSTART;TZID=America/Detroit:20280504T190000
DTEND;TZID=America/Detroit:20280504T213000
DTSTAMP:20260423T032627
CREATED:20231206T151622Z
LAST-MODIFIED:20240528T142151Z
UID:10203323-1841079600-1841088600@harmonybeer.com
SUMMARY:Vinyl Night
DESCRIPTION:Guest Vinyl DJs every thursday 7pm
URL:https://harmonybeer.com/event/vinyl-night/2028-05-04/
END:VEVENT
BEGIN:VEVENT
DTSTART;TZID=America/Detroit:20280507T190000
DTEND;TZID=America/Detroit:20280507T210000
DTSTAMP:20260423T032627
CREATED:20240624T185540Z
LAST-MODIFIED:20240624T185540Z
UID:10204363-1841338800-1841346000@harmonybeer.com
SUMMARY:Trivia Night - Geeks Who Drink
DESCRIPTION:Trivia night with Geeks Who Drink every Sunday 7pm. Compete for Harmony Gift Cards!
URL:https://harmonybeer.com/event/trivia-night-geeks-who-drink/2028-05-07/
END:VEVENT
BEGIN:VEVENT
DTSTART;TZID=America/Detroit:20280508T190000
DTEND;TZID=America/Detroit:20280508T210000
DTSTAMP:20260423T032627
CREATED:20240624T182240Z
LAST-MODIFIED:20240624T182240Z
UID:10203581-1841425200-1841432400@harmonybeer.com
SUMMARY:Euchre Night
DESCRIPTION:Bring a partner and compete for Harmony gift cards! 7pm every Monday
URL:https://harmonybeer.com/event/euchre-night-2/2028-05-08/
END:VEVENT
BEGIN:VEVENT
DTSTART;TZID=America/Detroit:20280510T190000
DTEND;TZID=America/Detroit:20280510T210000
DTSTAMP:20260423T032627
CREATED:20240624T182631Z
LAST-MODIFIED:20240624T182631Z
UID:10203842-1841598000-1841605200@harmonybeer.com
SUMMARY:Trivia Night - QuizQuest
DESCRIPTION:Trivia hosted by QuizQuest every Wednesday 7pm. Compete for Harmony Gift Cards!
URL:https://harmonybeer.com/event/trivia-night-quizquest/2028-05-10/
END:VEVENT
BEGIN:VEVENT
DTSTART;TZID=America/Detroit:20280511T190000
DTEND;TZID=America/Detroit:20280511T213000
DTSTAMP:20260423T032627
CREATED:20231206T151622Z
LAST-MODIFIED:20240528T142151Z
UID:10203324-1841684400-1841693400@harmonybeer.com
SUMMARY:Vinyl Night
DESCRIPTION:Guest Vinyl DJs every thursday 7pm
URL:https://harmonybeer.com/event/vinyl-night/2028-05-11/
END:VEVENT
BEGIN:VEVENT
DTSTART;TZID=America/Detroit:20280514T190000
DTEND;TZID=America/Detroit:20280514T210000
DTSTAMP:20260423T032627
CREATED:20240624T185540Z
LAST-MODIFIED:20240624T185540Z
UID:10204364-1841943600-1841950800@harmonybeer.com
SUMMARY:Trivia Night - Geeks Who Drink
DESCRIPTION:Trivia night with Geeks Who Drink every Sunday 7pm. Compete for Harmony Gift Cards!
URL:https://harmonybeer.com/event/trivia-night-geeks-who-drink/2028-05-14/
END:VEVENT
BEGIN:VEVENT
DTSTART;TZID=America/Detroit:20280515T190000
DTEND;TZID=America/Detroit:20280515T210000
DTSTAMP:20260423T032627
CREATED:20240624T182240Z
LAST-MODIFIED:20240624T182240Z
UID:10203582-1842030000-1842037200@harmonybeer.com
SUMMARY:Euchre Night
DESCRIPTION:Bring a partner and compete for Harmony gift cards! 7pm every Monday
URL:https://harmonybeer.com/event/euchre-night-2/2028-05-15/
END:VEVENT
BEGIN:VEVENT
DTSTART;TZID=America/Detroit:20280517T190000
DTEND;TZID=America/Detroit:20280517T210000
DTSTAMP:20260423T032627
CREATED:20240624T182631Z
LAST-MODIFIED:20240624T182631Z
UID:10203843-1842202800-1842210000@harmonybeer.com
SUMMARY:Trivia Night - QuizQuest
DESCRIPTION:Trivia hosted by QuizQuest every Wednesday 7pm. Compete for Harmony Gift Cards!
URL:https://harmonybeer.com/event/trivia-night-quizquest/2028-05-17/
END:VEVENT
BEGIN:VEVENT
DTSTART;TZID=America/Detroit:20280518T190000
DTEND;TZID=America/Detroit:20280518T213000
DTSTAMP:20260423T032627
CREATED:20231206T151622Z
LAST-MODIFIED:20240528T142151Z
UID:10203325-1842289200-1842298200@harmonybeer.com
SUMMARY:Vinyl Night
DESCRIPTION:Guest Vinyl DJs every thursday 7pm
URL:https://harmonybeer.com/event/vinyl-night/2028-05-18/
END:VEVENT
BEGIN:VEVENT
DTSTART;TZID=America/Detroit:20280521T190000
DTEND;TZID=America/Detroit:20280521T210000
DTSTAMP:20260423T032627
CREATED:20240624T185540Z
LAST-MODIFIED:20240624T185540Z
UID:10204365-1842548400-1842555600@harmonybeer.com
SUMMARY:Trivia Night - Geeks Who Drink
DESCRIPTION:Trivia night with Geeks Who Drink every Sunday 7pm. Compete for Harmony Gift Cards!
URL:https://harmonybeer.com/event/trivia-night-geeks-who-drink/2028-05-21/
END:VEVENT
BEGIN:VEVENT
DTSTART;TZID=America/Detroit:20280522T190000
DTEND;TZID=America/Detroit:20280522T210000
DTSTAMP:20260423T032627
CREATED:20240624T182240Z
LAST-MODIFIED:20240624T182240Z
UID:10203583-1842634800-1842642000@harmonybeer.com
SUMMARY:Euchre Night
DESCRIPTION:Bring a partner and compete for Harmony gift cards! 7pm every Monday
URL:https://harmonybeer.com/event/euchre-night-2/2028-05-22/
END:VEVENT
BEGIN:VEVENT
DTSTART;TZID=America/Detroit:20280524T190000
DTEND;TZID=America/Detroit:20280524T210000
DTSTAMP:20260423T032627
CREATED:20240624T182631Z
LAST-MODIFIED:20240624T182631Z
UID:10203844-1842807600-1842814800@harmonybeer.com
SUMMARY:Trivia Night - QuizQuest
DESCRIPTION:Trivia hosted by QuizQuest every Wednesday 7pm. Compete for Harmony Gift Cards!
URL:https://harmonybeer.com/event/trivia-night-quizquest/2028-05-24/
END:VEVENT
BEGIN:VEVENT
DTSTART;TZID=America/Detroit:20280525T190000
DTEND;TZID=America/Detroit:20280525T213000
DTSTAMP:20260423T032627
CREATED:20231206T151622Z
LAST-MODIFIED:20240528T142151Z
UID:10203326-1842894000-1842903000@harmonybeer.com
SUMMARY:Vinyl Night
DESCRIPTION:Guest Vinyl DJs every thursday 7pm
URL:https://harmonybeer.com/event/vinyl-night/2028-05-25/
END:VEVENT
END:VCALENDAR