BEGIN:VCALENDAR
VERSION:2.0
PRODID:-//Harmony Beer - ECPv6.15.20//NONSGML v1.0//EN
CALSCALE:GREGORIAN
METHOD:PUBLISH
X-WR-CALNAME:Harmony Beer
X-ORIGINAL-URL:https://harmonybeer.com
X-WR-CALDESC:Events for Harmony Beer
REFRESH-INTERVAL;VALUE=DURATION:PT1H
X-Robots-Tag:noindex
X-PUBLISHED-TTL:PT1H
BEGIN:VTIMEZONE
TZID:America/Detroit
BEGIN:DAYLIGHT
TZOFFSETFROM:-0500
TZOFFSETTO:-0400
TZNAME:EDT
DTSTART:20270314T070000
END:DAYLIGHT
BEGIN:STANDARD
TZOFFSETFROM:-0400
TZOFFSETTO:-0500
TZNAME:EST
DTSTART:20271107T060000
END:STANDARD
BEGIN:DAYLIGHT
TZOFFSETFROM:-0500
TZOFFSETTO:-0400
TZNAME:EDT
DTSTART:20280312T070000
END:DAYLIGHT
BEGIN:STANDARD
TZOFFSETFROM:-0400
TZOFFSETTO:-0500
TZNAME:EST
DTSTART:20281105T060000
END:STANDARD
BEGIN:DAYLIGHT
TZOFFSETFROM:-0500
TZOFFSETTO:-0400
TZNAME:EDT
DTSTART:20290311T070000
END:DAYLIGHT
BEGIN:STANDARD
TZOFFSETFROM:-0400
TZOFFSETTO:-0500
TZNAME:EST
DTSTART:20291104T060000
END:STANDARD
END:VTIMEZONE
BEGIN:VEVENT
DTSTART;TZID=America/Detroit:20280821T190000
DTEND;TZID=America/Detroit:20280821T210000
DTSTAMP:20260423T063043
CREATED:20240624T182240Z
LAST-MODIFIED:20240624T182240Z
UID:10203596-1850497200-1850504400@harmonybeer.com
SUMMARY:Euchre Night
DESCRIPTION:Bring a partner and compete for Harmony gift cards! 7pm every Monday
URL:https://harmonybeer.com/event/euchre-night-2/2028-08-21/
END:VEVENT
BEGIN:VEVENT
DTSTART;TZID=America/Detroit:20280820T190000
DTEND;TZID=America/Detroit:20280820T210000
DTSTAMP:20260423T063043
CREATED:20240624T185540Z
LAST-MODIFIED:20240624T185540Z
UID:10204378-1850410800-1850418000@harmonybeer.com
SUMMARY:Trivia Night - Geeks Who Drink
DESCRIPTION:Trivia night with Geeks Who Drink every Sunday 7pm. Compete for Harmony Gift Cards!
URL:https://harmonybeer.com/event/trivia-night-geeks-who-drink/2028-08-20/
END:VEVENT
BEGIN:VEVENT
DTSTART;TZID=America/Detroit:20280817T190000
DTEND;TZID=America/Detroit:20280817T213000
DTSTAMP:20260423T063043
CREATED:20231206T151622Z
LAST-MODIFIED:20240528T142151Z
UID:10203338-1850151600-1850160600@harmonybeer.com
SUMMARY:Vinyl Night
DESCRIPTION:Guest Vinyl DJs every thursday 7pm
URL:https://harmonybeer.com/event/vinyl-night/2028-08-17/
END:VEVENT
BEGIN:VEVENT
DTSTART;TZID=America/Detroit:20280816T190000
DTEND;TZID=America/Detroit:20280816T210000
DTSTAMP:20260423T063043
CREATED:20240624T182631Z
LAST-MODIFIED:20240624T182631Z
UID:10203856-1850065200-1850072400@harmonybeer.com
SUMMARY:Trivia Night - QuizQuest
DESCRIPTION:Trivia hosted by QuizQuest every Wednesday 7pm. Compete for Harmony Gift Cards!
URL:https://harmonybeer.com/event/trivia-night-quizquest/2028-08-16/
END:VEVENT
BEGIN:VEVENT
DTSTART;TZID=America/Detroit:20280814T190000
DTEND;TZID=America/Detroit:20280814T210000
DTSTAMP:20260423T063043
CREATED:20240624T182240Z
LAST-MODIFIED:20240624T182240Z
UID:10203595-1849892400-1849899600@harmonybeer.com
SUMMARY:Euchre Night
DESCRIPTION:Bring a partner and compete for Harmony gift cards! 7pm every Monday
URL:https://harmonybeer.com/event/euchre-night-2/2028-08-14/
END:VEVENT
BEGIN:VEVENT
DTSTART;TZID=America/Detroit:20280813T190000
DTEND;TZID=America/Detroit:20280813T210000
DTSTAMP:20260423T063043
CREATED:20240624T185540Z
LAST-MODIFIED:20240624T185540Z
UID:10204377-1849806000-1849813200@harmonybeer.com
SUMMARY:Trivia Night - Geeks Who Drink
DESCRIPTION:Trivia night with Geeks Who Drink every Sunday 7pm. Compete for Harmony Gift Cards!
URL:https://harmonybeer.com/event/trivia-night-geeks-who-drink/2028-08-13/
END:VEVENT
BEGIN:VEVENT
DTSTART;TZID=America/Detroit:20280810T190000
DTEND;TZID=America/Detroit:20280810T213000
DTSTAMP:20260423T063043
CREATED:20231206T151622Z
LAST-MODIFIED:20240528T142151Z
UID:10203337-1849546800-1849555800@harmonybeer.com
SUMMARY:Vinyl Night
DESCRIPTION:Guest Vinyl DJs every thursday 7pm
URL:https://harmonybeer.com/event/vinyl-night/2028-08-10/
END:VEVENT
BEGIN:VEVENT
DTSTART;TZID=America/Detroit:20280809T190000
DTEND;TZID=America/Detroit:20280809T210000
DTSTAMP:20260423T063043
CREATED:20240624T182631Z
LAST-MODIFIED:20240624T182631Z
UID:10203855-1849460400-1849467600@harmonybeer.com
SUMMARY:Trivia Night - QuizQuest
DESCRIPTION:Trivia hosted by QuizQuest every Wednesday 7pm. Compete for Harmony Gift Cards!
URL:https://harmonybeer.com/event/trivia-night-quizquest/2028-08-09/
END:VEVENT
BEGIN:VEVENT
DTSTART;TZID=America/Detroit:20280807T190000
DTEND;TZID=America/Detroit:20280807T210000
DTSTAMP:20260423T063043
CREATED:20240624T182240Z
LAST-MODIFIED:20240624T182240Z
UID:10203594-1849287600-1849294800@harmonybeer.com
SUMMARY:Euchre Night
DESCRIPTION:Bring a partner and compete for Harmony gift cards! 7pm every Monday
URL:https://harmonybeer.com/event/euchre-night-2/2028-08-07/
END:VEVENT
BEGIN:VEVENT
DTSTART;TZID=America/Detroit:20280806T190000
DTEND;TZID=America/Detroit:20280806T210000
DTSTAMP:20260423T063043
CREATED:20240624T185540Z
LAST-MODIFIED:20240624T185540Z
UID:10204376-1849201200-1849208400@harmonybeer.com
SUMMARY:Trivia Night - Geeks Who Drink
DESCRIPTION:Trivia night with Geeks Who Drink every Sunday 7pm. Compete for Harmony Gift Cards!
URL:https://harmonybeer.com/event/trivia-night-geeks-who-drink/2028-08-06/
END:VEVENT
BEGIN:VEVENT
DTSTART;TZID=America/Detroit:20280803T190000
DTEND;TZID=America/Detroit:20280803T213000
DTSTAMP:20260423T063043
CREATED:20231206T151622Z
LAST-MODIFIED:20240528T142151Z
UID:10203336-1848942000-1848951000@harmonybeer.com
SUMMARY:Vinyl Night
DESCRIPTION:Guest Vinyl DJs every thursday 7pm
URL:https://harmonybeer.com/event/vinyl-night/2028-08-03/
END:VEVENT
BEGIN:VEVENT
DTSTART;TZID=America/Detroit:20280802T190000
DTEND;TZID=America/Detroit:20280802T210000
DTSTAMP:20260423T063043
CREATED:20240624T182631Z
LAST-MODIFIED:20240624T182631Z
UID:10203854-1848855600-1848862800@harmonybeer.com
SUMMARY:Trivia Night - QuizQuest
DESCRIPTION:Trivia hosted by QuizQuest every Wednesday 7pm. Compete for Harmony Gift Cards!
URL:https://harmonybeer.com/event/trivia-night-quizquest/2028-08-02/
END:VEVENT
BEGIN:VEVENT
DTSTART;TZID=America/Detroit:20280731T190000
DTEND;TZID=America/Detroit:20280731T210000
DTSTAMP:20260423T063043
CREATED:20240624T182240Z
LAST-MODIFIED:20240624T182240Z
UID:10203593-1848682800-1848690000@harmonybeer.com
SUMMARY:Euchre Night
DESCRIPTION:Bring a partner and compete for Harmony gift cards! 7pm every Monday
URL:https://harmonybeer.com/event/euchre-night-2/2028-07-31/
END:VEVENT
BEGIN:VEVENT
DTSTART;TZID=America/Detroit:20280730T190000
DTEND;TZID=America/Detroit:20280730T210000
DTSTAMP:20260423T063043
CREATED:20240624T185540Z
LAST-MODIFIED:20240624T185540Z
UID:10204375-1848596400-1848603600@harmonybeer.com
SUMMARY:Trivia Night - Geeks Who Drink
DESCRIPTION:Trivia night with Geeks Who Drink every Sunday 7pm. Compete for Harmony Gift Cards!
URL:https://harmonybeer.com/event/trivia-night-geeks-who-drink/2028-07-30/
END:VEVENT
BEGIN:VEVENT
DTSTART;TZID=America/Detroit:20280727T190000
DTEND;TZID=America/Detroit:20280727T213000
DTSTAMP:20260423T063043
CREATED:20231206T151622Z
LAST-MODIFIED:20240528T142151Z
UID:10203335-1848337200-1848346200@harmonybeer.com
SUMMARY:Vinyl Night
DESCRIPTION:Guest Vinyl DJs every thursday 7pm
URL:https://harmonybeer.com/event/vinyl-night/2028-07-27/
END:VEVENT
BEGIN:VEVENT
DTSTART;TZID=America/Detroit:20280726T190000
DTEND;TZID=America/Detroit:20280726T210000
DTSTAMP:20260423T063043
CREATED:20240624T182631Z
LAST-MODIFIED:20240624T182631Z
UID:10203853-1848250800-1848258000@harmonybeer.com
SUMMARY:Trivia Night - QuizQuest
DESCRIPTION:Trivia hosted by QuizQuest every Wednesday 7pm. Compete for Harmony Gift Cards!
URL:https://harmonybeer.com/event/trivia-night-quizquest/2028-07-26/
END:VEVENT
BEGIN:VEVENT
DTSTART;TZID=America/Detroit:20280724T190000
DTEND;TZID=America/Detroit:20280724T210000
DTSTAMP:20260423T063043
CREATED:20240624T182240Z
LAST-MODIFIED:20240624T182240Z
UID:10203592-1848078000-1848085200@harmonybeer.com
SUMMARY:Euchre Night
DESCRIPTION:Bring a partner and compete for Harmony gift cards! 7pm every Monday
URL:https://harmonybeer.com/event/euchre-night-2/2028-07-24/
END:VEVENT
BEGIN:VEVENT
DTSTART;TZID=America/Detroit:20280723T190000
DTEND;TZID=America/Detroit:20280723T210000
DTSTAMP:20260423T063043
CREATED:20240624T185540Z
LAST-MODIFIED:20240624T185540Z
UID:10204374-1847991600-1847998800@harmonybeer.com
SUMMARY:Trivia Night - Geeks Who Drink
DESCRIPTION:Trivia night with Geeks Who Drink every Sunday 7pm. Compete for Harmony Gift Cards!
URL:https://harmonybeer.com/event/trivia-night-geeks-who-drink/2028-07-23/
END:VEVENT
BEGIN:VEVENT
DTSTART;TZID=America/Detroit:20280720T190000
DTEND;TZID=America/Detroit:20280720T213000
DTSTAMP:20260423T063043
CREATED:20231206T151622Z
LAST-MODIFIED:20240528T142151Z
UID:10203334-1847732400-1847741400@harmonybeer.com
SUMMARY:Vinyl Night
DESCRIPTION:Guest Vinyl DJs every thursday 7pm
URL:https://harmonybeer.com/event/vinyl-night/2028-07-20/
END:VEVENT
BEGIN:VEVENT
DTSTART;TZID=America/Detroit:20280719T190000
DTEND;TZID=America/Detroit:20280719T210000
DTSTAMP:20260423T063043
CREATED:20240624T182631Z
LAST-MODIFIED:20240624T182631Z
UID:10203852-1847646000-1847653200@harmonybeer.com
SUMMARY:Trivia Night - QuizQuest
DESCRIPTION:Trivia hosted by QuizQuest every Wednesday 7pm. Compete for Harmony Gift Cards!
URL:https://harmonybeer.com/event/trivia-night-quizquest/2028-07-19/
END:VEVENT
BEGIN:VEVENT
DTSTART;TZID=America/Detroit:20280717T190000
DTEND;TZID=America/Detroit:20280717T210000
DTSTAMP:20260423T063043
CREATED:20240624T182240Z
LAST-MODIFIED:20240624T182240Z
UID:10203591-1847473200-1847480400@harmonybeer.com
SUMMARY:Euchre Night
DESCRIPTION:Bring a partner and compete for Harmony gift cards! 7pm every Monday
URL:https://harmonybeer.com/event/euchre-night-2/2028-07-17/
END:VEVENT
BEGIN:VEVENT
DTSTART;TZID=America/Detroit:20280716T190000
DTEND;TZID=America/Detroit:20280716T210000
DTSTAMP:20260423T063043
CREATED:20240624T185540Z
LAST-MODIFIED:20240624T185540Z
UID:10204373-1847386800-1847394000@harmonybeer.com
SUMMARY:Trivia Night - Geeks Who Drink
DESCRIPTION:Trivia night with Geeks Who Drink every Sunday 7pm. Compete for Harmony Gift Cards!
URL:https://harmonybeer.com/event/trivia-night-geeks-who-drink/2028-07-16/
END:VEVENT
BEGIN:VEVENT
DTSTART;TZID=America/Detroit:20280713T190000
DTEND;TZID=America/Detroit:20280713T213000
DTSTAMP:20260423T063043
CREATED:20231206T151622Z
LAST-MODIFIED:20240528T142151Z
UID:10203333-1847127600-1847136600@harmonybeer.com
SUMMARY:Vinyl Night
DESCRIPTION:Guest Vinyl DJs every thursday 7pm
URL:https://harmonybeer.com/event/vinyl-night/2028-07-13/
END:VEVENT
BEGIN:VEVENT
DTSTART;TZID=America/Detroit:20280712T190000
DTEND;TZID=America/Detroit:20280712T210000
DTSTAMP:20260423T063043
CREATED:20240624T182631Z
LAST-MODIFIED:20240624T182631Z
UID:10203851-1847041200-1847048400@harmonybeer.com
SUMMARY:Trivia Night - QuizQuest
DESCRIPTION:Trivia hosted by QuizQuest every Wednesday 7pm. Compete for Harmony Gift Cards!
URL:https://harmonybeer.com/event/trivia-night-quizquest/2028-07-12/
END:VEVENT
BEGIN:VEVENT
DTSTART;TZID=America/Detroit:20280710T190000
DTEND;TZID=America/Detroit:20280710T210000
DTSTAMP:20260423T063043
CREATED:20240624T182240Z
LAST-MODIFIED:20240624T182240Z
UID:10203590-1846868400-1846875600@harmonybeer.com
SUMMARY:Euchre Night
DESCRIPTION:Bring a partner and compete for Harmony gift cards! 7pm every Monday
URL:https://harmonybeer.com/event/euchre-night-2/2028-07-10/
END:VEVENT
BEGIN:VEVENT
DTSTART;TZID=America/Detroit:20280709T190000
DTEND;TZID=America/Detroit:20280709T210000
DTSTAMP:20260423T063043
CREATED:20240624T185540Z
LAST-MODIFIED:20240624T185540Z
UID:10204372-1846782000-1846789200@harmonybeer.com
SUMMARY:Trivia Night - Geeks Who Drink
DESCRIPTION:Trivia night with Geeks Who Drink every Sunday 7pm. Compete for Harmony Gift Cards!
URL:https://harmonybeer.com/event/trivia-night-geeks-who-drink/2028-07-09/
END:VEVENT
BEGIN:VEVENT
DTSTART;TZID=America/Detroit:20280706T190000
DTEND;TZID=America/Detroit:20280706T213000
DTSTAMP:20260423T063043
CREATED:20231206T151622Z
LAST-MODIFIED:20240528T142151Z
UID:10203332-1846522800-1846531800@harmonybeer.com
SUMMARY:Vinyl Night
DESCRIPTION:Guest Vinyl DJs every thursday 7pm
URL:https://harmonybeer.com/event/vinyl-night/2028-07-06/
END:VEVENT
BEGIN:VEVENT
DTSTART;TZID=America/Detroit:20280705T190000
DTEND;TZID=America/Detroit:20280705T210000
DTSTAMP:20260423T063043
CREATED:20240624T182631Z
LAST-MODIFIED:20240624T182631Z
UID:10203850-1846436400-1846443600@harmonybeer.com
SUMMARY:Trivia Night - QuizQuest
DESCRIPTION:Trivia hosted by QuizQuest every Wednesday 7pm. Compete for Harmony Gift Cards!
URL:https://harmonybeer.com/event/trivia-night-quizquest/2028-07-05/
END:VEVENT
BEGIN:VEVENT
DTSTART;TZID=America/Detroit:20280703T190000
DTEND;TZID=America/Detroit:20280703T210000
DTSTAMP:20260423T063043
CREATED:20240624T182240Z
LAST-MODIFIED:20240624T182240Z
UID:10203589-1846263600-1846270800@harmonybeer.com
SUMMARY:Euchre Night
DESCRIPTION:Bring a partner and compete for Harmony gift cards! 7pm every Monday
URL:https://harmonybeer.com/event/euchre-night-2/2028-07-03/
END:VEVENT
BEGIN:VEVENT
DTSTART;TZID=America/Detroit:20280702T190000
DTEND;TZID=America/Detroit:20280702T210000
DTSTAMP:20260423T063043
CREATED:20240624T185540Z
LAST-MODIFIED:20240624T185540Z
UID:10204371-1846177200-1846184400@harmonybeer.com
SUMMARY:Trivia Night - Geeks Who Drink
DESCRIPTION:Trivia night with Geeks Who Drink every Sunday 7pm. Compete for Harmony Gift Cards!
URL:https://harmonybeer.com/event/trivia-night-geeks-who-drink/2028-07-02/
END:VEVENT
END:VCALENDAR