BEGIN:VCALENDAR
VERSION:2.0
PRODID:-//Harmony Beer - ECPv6.15.20//NONSGML v1.0//EN
CALSCALE:GREGORIAN
METHOD:PUBLISH
X-WR-CALNAME:Harmony Beer
X-ORIGINAL-URL:https://harmonybeer.com
X-WR-CALDESC:Events for Harmony Beer
REFRESH-INTERVAL;VALUE=DURATION:PT1H
X-Robots-Tag:noindex
X-PUBLISHED-TTL:PT1H
BEGIN:VTIMEZONE
TZID:America/Detroit
BEGIN:DAYLIGHT
TZOFFSETFROM:-0500
TZOFFSETTO:-0400
TZNAME:EDT
DTSTART:20280312T070000
END:DAYLIGHT
BEGIN:STANDARD
TZOFFSETFROM:-0400
TZOFFSETTO:-0500
TZNAME:EST
DTSTART:20281105T060000
END:STANDARD
BEGIN:DAYLIGHT
TZOFFSETFROM:-0500
TZOFFSETTO:-0400
TZNAME:EDT
DTSTART:20290311T070000
END:DAYLIGHT
BEGIN:STANDARD
TZOFFSETFROM:-0400
TZOFFSETTO:-0500
TZNAME:EST
DTSTART:20291104T060000
END:STANDARD
BEGIN:DAYLIGHT
TZOFFSETFROM:-0500
TZOFFSETTO:-0400
TZNAME:EDT
DTSTART:20300310T070000
END:DAYLIGHT
BEGIN:STANDARD
TZOFFSETFROM:-0400
TZOFFSETTO:-0500
TZNAME:EST
DTSTART:20301103T060000
END:STANDARD
END:VTIMEZONE
BEGIN:VEVENT
DTSTART;TZID=America/Detroit:20290215T190000
DTEND;TZID=America/Detroit:20290215T213000
DTSTAMP:20260423T034053
CREATED:20231206T151622Z
LAST-MODIFIED:20240528T142151Z
UID:10203364-1865876400-1865885400@harmonybeer.com
SUMMARY:Vinyl Night
DESCRIPTION:Guest Vinyl DJs every thursday 7pm
URL:https://harmonybeer.com/event/vinyl-night/2029-02-15/
END:VEVENT
BEGIN:VEVENT
DTSTART;TZID=America/Detroit:20290218T190000
DTEND;TZID=America/Detroit:20290218T210000
DTSTAMP:20260423T034053
CREATED:20240624T185540Z
LAST-MODIFIED:20240624T185540Z
UID:10204404-1866135600-1866142800@harmonybeer.com
SUMMARY:Trivia Night - Geeks Who Drink
DESCRIPTION:Trivia night with Geeks Who Drink every Sunday 7pm. Compete for Harmony Gift Cards!
URL:https://harmonybeer.com/event/trivia-night-geeks-who-drink/2029-02-18/
END:VEVENT
BEGIN:VEVENT
DTSTART;TZID=America/Detroit:20290219T190000
DTEND;TZID=America/Detroit:20290219T210000
DTSTAMP:20260423T034053
CREATED:20240624T182240Z
LAST-MODIFIED:20240624T182240Z
UID:10203622-1866222000-1866229200@harmonybeer.com
SUMMARY:Euchre Night
DESCRIPTION:Bring a partner and compete for Harmony gift cards! 7pm every Monday
URL:https://harmonybeer.com/event/euchre-night-2/2029-02-19/
END:VEVENT
BEGIN:VEVENT
DTSTART;TZID=America/Detroit:20290221T190000
DTEND;TZID=America/Detroit:20290221T210000
DTSTAMP:20260423T034053
CREATED:20240624T182631Z
LAST-MODIFIED:20240624T182631Z
UID:10203883-1866394800-1866402000@harmonybeer.com
SUMMARY:Trivia Night - QuizQuest
DESCRIPTION:Trivia hosted by QuizQuest every Wednesday 7pm. Compete for Harmony Gift Cards!
URL:https://harmonybeer.com/event/trivia-night-quizquest/2029-02-21/
END:VEVENT
BEGIN:VEVENT
DTSTART;TZID=America/Detroit:20290222T190000
DTEND;TZID=America/Detroit:20290222T213000
DTSTAMP:20260423T034053
CREATED:20231206T151622Z
LAST-MODIFIED:20240528T142151Z
UID:10203365-1866481200-1866490200@harmonybeer.com
SUMMARY:Vinyl Night
DESCRIPTION:Guest Vinyl DJs every thursday 7pm
URL:https://harmonybeer.com/event/vinyl-night/2029-02-22/
END:VEVENT
BEGIN:VEVENT
DTSTART;TZID=America/Detroit:20290225T190000
DTEND;TZID=America/Detroit:20290225T210000
DTSTAMP:20260423T034053
CREATED:20240624T185540Z
LAST-MODIFIED:20240624T185540Z
UID:10204405-1866740400-1866747600@harmonybeer.com
SUMMARY:Trivia Night - Geeks Who Drink
DESCRIPTION:Trivia night with Geeks Who Drink every Sunday 7pm. Compete for Harmony Gift Cards!
URL:https://harmonybeer.com/event/trivia-night-geeks-who-drink/2029-02-25/
END:VEVENT
BEGIN:VEVENT
DTSTART;TZID=America/Detroit:20290226T190000
DTEND;TZID=America/Detroit:20290226T210000
DTSTAMP:20260423T034053
CREATED:20240624T182240Z
LAST-MODIFIED:20240624T182240Z
UID:10203623-1866826800-1866834000@harmonybeer.com
SUMMARY:Euchre Night
DESCRIPTION:Bring a partner and compete for Harmony gift cards! 7pm every Monday
URL:https://harmonybeer.com/event/euchre-night-2/2029-02-26/
END:VEVENT
BEGIN:VEVENT
DTSTART;TZID=America/Detroit:20290228T190000
DTEND;TZID=America/Detroit:20290228T210000
DTSTAMP:20260423T034053
CREATED:20240624T182631Z
LAST-MODIFIED:20240624T182631Z
UID:10203884-1866999600-1867006800@harmonybeer.com
SUMMARY:Trivia Night - QuizQuest
DESCRIPTION:Trivia hosted by QuizQuest every Wednesday 7pm. Compete for Harmony Gift Cards!
URL:https://harmonybeer.com/event/trivia-night-quizquest/2029-02-28/
END:VEVENT
BEGIN:VEVENT
DTSTART;TZID=America/Detroit:20290301T190000
DTEND;TZID=America/Detroit:20290301T213000
DTSTAMP:20260423T034053
CREATED:20231206T151622Z
LAST-MODIFIED:20240528T142151Z
UID:10203366-1867086000-1867095000@harmonybeer.com
SUMMARY:Vinyl Night
DESCRIPTION:Guest Vinyl DJs every thursday 7pm
URL:https://harmonybeer.com/event/vinyl-night/2029-03-01/
END:VEVENT
BEGIN:VEVENT
DTSTART;TZID=America/Detroit:20290304T190000
DTEND;TZID=America/Detroit:20290304T210000
DTSTAMP:20260423T034053
CREATED:20240624T185540Z
LAST-MODIFIED:20240624T185540Z
UID:10204406-1867345200-1867352400@harmonybeer.com
SUMMARY:Trivia Night - Geeks Who Drink
DESCRIPTION:Trivia night with Geeks Who Drink every Sunday 7pm. Compete for Harmony Gift Cards!
URL:https://harmonybeer.com/event/trivia-night-geeks-who-drink/2029-03-04/
END:VEVENT
BEGIN:VEVENT
DTSTART;TZID=America/Detroit:20290305T190000
DTEND;TZID=America/Detroit:20290305T210000
DTSTAMP:20260423T034053
CREATED:20240624T182240Z
LAST-MODIFIED:20240624T182240Z
UID:10203624-1867431600-1867438800@harmonybeer.com
SUMMARY:Euchre Night
DESCRIPTION:Bring a partner and compete for Harmony gift cards! 7pm every Monday
URL:https://harmonybeer.com/event/euchre-night-2/2029-03-05/
END:VEVENT
BEGIN:VEVENT
DTSTART;TZID=America/Detroit:20290307T190000
DTEND;TZID=America/Detroit:20290307T210000
DTSTAMP:20260423T034053
CREATED:20240624T182631Z
LAST-MODIFIED:20240624T182631Z
UID:10203885-1867604400-1867611600@harmonybeer.com
SUMMARY:Trivia Night - QuizQuest
DESCRIPTION:Trivia hosted by QuizQuest every Wednesday 7pm. Compete for Harmony Gift Cards!
URL:https://harmonybeer.com/event/trivia-night-quizquest/2029-03-07/
END:VEVENT
BEGIN:VEVENT
DTSTART;TZID=America/Detroit:20290308T190000
DTEND;TZID=America/Detroit:20290308T213000
DTSTAMP:20260423T034053
CREATED:20231206T151622Z
LAST-MODIFIED:20240528T142151Z
UID:10203367-1867690800-1867699800@harmonybeer.com
SUMMARY:Vinyl Night
DESCRIPTION:Guest Vinyl DJs every thursday 7pm
URL:https://harmonybeer.com/event/vinyl-night/2029-03-08/
END:VEVENT
BEGIN:VEVENT
DTSTART;TZID=America/Detroit:20290311T190000
DTEND;TZID=America/Detroit:20290311T210000
DTSTAMP:20260423T034053
CREATED:20240624T185540Z
LAST-MODIFIED:20240624T185540Z
UID:10204407-1867950000-1867957200@harmonybeer.com
SUMMARY:Trivia Night - Geeks Who Drink
DESCRIPTION:Trivia night with Geeks Who Drink every Sunday 7pm. Compete for Harmony Gift Cards!
URL:https://harmonybeer.com/event/trivia-night-geeks-who-drink/2029-03-11/
END:VEVENT
BEGIN:VEVENT
DTSTART;TZID=America/Detroit:20290312T190000
DTEND;TZID=America/Detroit:20290312T210000
DTSTAMP:20260423T034053
CREATED:20240624T182240Z
LAST-MODIFIED:20240624T182240Z
UID:10203625-1868036400-1868043600@harmonybeer.com
SUMMARY:Euchre Night
DESCRIPTION:Bring a partner and compete for Harmony gift cards! 7pm every Monday
URL:https://harmonybeer.com/event/euchre-night-2/2029-03-12/
END:VEVENT
BEGIN:VEVENT
DTSTART;TZID=America/Detroit:20290314T190000
DTEND;TZID=America/Detroit:20290314T210000
DTSTAMP:20260423T034053
CREATED:20240624T182631Z
LAST-MODIFIED:20240624T182631Z
UID:10203886-1868209200-1868216400@harmonybeer.com
SUMMARY:Trivia Night - QuizQuest
DESCRIPTION:Trivia hosted by QuizQuest every Wednesday 7pm. Compete for Harmony Gift Cards!
URL:https://harmonybeer.com/event/trivia-night-quizquest/2029-03-14/
END:VEVENT
BEGIN:VEVENT
DTSTART;TZID=America/Detroit:20290315T190000
DTEND;TZID=America/Detroit:20290315T213000
DTSTAMP:20260423T034053
CREATED:20231206T151622Z
LAST-MODIFIED:20240528T142151Z
UID:10203368-1868295600-1868304600@harmonybeer.com
SUMMARY:Vinyl Night
DESCRIPTION:Guest Vinyl DJs every thursday 7pm
URL:https://harmonybeer.com/event/vinyl-night/2029-03-15/
END:VEVENT
BEGIN:VEVENT
DTSTART;TZID=America/Detroit:20290318T190000
DTEND;TZID=America/Detroit:20290318T210000
DTSTAMP:20260423T034053
CREATED:20240624T185540Z
LAST-MODIFIED:20240624T185540Z
UID:10204408-1868554800-1868562000@harmonybeer.com
SUMMARY:Trivia Night - Geeks Who Drink
DESCRIPTION:Trivia night with Geeks Who Drink every Sunday 7pm. Compete for Harmony Gift Cards!
URL:https://harmonybeer.com/event/trivia-night-geeks-who-drink/2029-03-18/
END:VEVENT
BEGIN:VEVENT
DTSTART;TZID=America/Detroit:20290319T190000
DTEND;TZID=America/Detroit:20290319T210000
DTSTAMP:20260423T034053
CREATED:20240624T182240Z
LAST-MODIFIED:20240624T182240Z
UID:10203626-1868641200-1868648400@harmonybeer.com
SUMMARY:Euchre Night
DESCRIPTION:Bring a partner and compete for Harmony gift cards! 7pm every Monday
URL:https://harmonybeer.com/event/euchre-night-2/2029-03-19/
END:VEVENT
BEGIN:VEVENT
DTSTART;TZID=America/Detroit:20290321T190000
DTEND;TZID=America/Detroit:20290321T210000
DTSTAMP:20260423T034053
CREATED:20240624T182631Z
LAST-MODIFIED:20240624T182631Z
UID:10203887-1868814000-1868821200@harmonybeer.com
SUMMARY:Trivia Night - QuizQuest
DESCRIPTION:Trivia hosted by QuizQuest every Wednesday 7pm. Compete for Harmony Gift Cards!
URL:https://harmonybeer.com/event/trivia-night-quizquest/2029-03-21/
END:VEVENT
BEGIN:VEVENT
DTSTART;TZID=America/Detroit:20290322T190000
DTEND;TZID=America/Detroit:20290322T213000
DTSTAMP:20260423T034053
CREATED:20231206T151622Z
LAST-MODIFIED:20240528T142151Z
UID:10203369-1868900400-1868909400@harmonybeer.com
SUMMARY:Vinyl Night
DESCRIPTION:Guest Vinyl DJs every thursday 7pm
URL:https://harmonybeer.com/event/vinyl-night/2029-03-22/
END:VEVENT
BEGIN:VEVENT
DTSTART;TZID=America/Detroit:20290325T190000
DTEND;TZID=America/Detroit:20290325T210000
DTSTAMP:20260423T034053
CREATED:20240624T185540Z
LAST-MODIFIED:20240624T185540Z
UID:10204409-1869159600-1869166800@harmonybeer.com
SUMMARY:Trivia Night - Geeks Who Drink
DESCRIPTION:Trivia night with Geeks Who Drink every Sunday 7pm. Compete for Harmony Gift Cards!
URL:https://harmonybeer.com/event/trivia-night-geeks-who-drink/2029-03-25/
END:VEVENT
BEGIN:VEVENT
DTSTART;TZID=America/Detroit:20290326T190000
DTEND;TZID=America/Detroit:20290326T210000
DTSTAMP:20260423T034053
CREATED:20240624T182240Z
LAST-MODIFIED:20240624T182240Z
UID:10203627-1869246000-1869253200@harmonybeer.com
SUMMARY:Euchre Night
DESCRIPTION:Bring a partner and compete for Harmony gift cards! 7pm every Monday
URL:https://harmonybeer.com/event/euchre-night-2/2029-03-26/
END:VEVENT
BEGIN:VEVENT
DTSTART;TZID=America/Detroit:20290328T190000
DTEND;TZID=America/Detroit:20290328T210000
DTSTAMP:20260423T034053
CREATED:20240624T182631Z
LAST-MODIFIED:20240624T182631Z
UID:10203888-1869418800-1869426000@harmonybeer.com
SUMMARY:Trivia Night - QuizQuest
DESCRIPTION:Trivia hosted by QuizQuest every Wednesday 7pm. Compete for Harmony Gift Cards!
URL:https://harmonybeer.com/event/trivia-night-quizquest/2029-03-28/
END:VEVENT
BEGIN:VEVENT
DTSTART;TZID=America/Detroit:20290329T190000
DTEND;TZID=America/Detroit:20290329T213000
DTSTAMP:20260423T034053
CREATED:20231206T151622Z
LAST-MODIFIED:20240528T142151Z
UID:10203370-1869505200-1869514200@harmonybeer.com
SUMMARY:Vinyl Night
DESCRIPTION:Guest Vinyl DJs every thursday 7pm
URL:https://harmonybeer.com/event/vinyl-night/2029-03-29/
END:VEVENT
BEGIN:VEVENT
DTSTART;TZID=America/Detroit:20290401T190000
DTEND;TZID=America/Detroit:20290401T210000
DTSTAMP:20260423T034053
CREATED:20240624T185540Z
LAST-MODIFIED:20240624T185540Z
UID:10204410-1869764400-1869771600@harmonybeer.com
SUMMARY:Trivia Night - Geeks Who Drink
DESCRIPTION:Trivia night with Geeks Who Drink every Sunday 7pm. Compete for Harmony Gift Cards!
URL:https://harmonybeer.com/event/trivia-night-geeks-who-drink/2029-04-01/
END:VEVENT
BEGIN:VEVENT
DTSTART;TZID=America/Detroit:20290402T190000
DTEND;TZID=America/Detroit:20290402T210000
DTSTAMP:20260423T034053
CREATED:20240624T182240Z
LAST-MODIFIED:20240624T182240Z
UID:10203628-1869850800-1869858000@harmonybeer.com
SUMMARY:Euchre Night
DESCRIPTION:Bring a partner and compete for Harmony gift cards! 7pm every Monday
URL:https://harmonybeer.com/event/euchre-night-2/2029-04-02/
END:VEVENT
BEGIN:VEVENT
DTSTART;TZID=America/Detroit:20290404T190000
DTEND;TZID=America/Detroit:20290404T210000
DTSTAMP:20260423T034053
CREATED:20240624T182631Z
LAST-MODIFIED:20240624T182631Z
UID:10203889-1870023600-1870030800@harmonybeer.com
SUMMARY:Trivia Night - QuizQuest
DESCRIPTION:Trivia hosted by QuizQuest every Wednesday 7pm. Compete for Harmony Gift Cards!
URL:https://harmonybeer.com/event/trivia-night-quizquest/2029-04-04/
END:VEVENT
BEGIN:VEVENT
DTSTART;TZID=America/Detroit:20290405T190000
DTEND;TZID=America/Detroit:20290405T213000
DTSTAMP:20260423T034053
CREATED:20231206T151622Z
LAST-MODIFIED:20240528T142151Z
UID:10203371-1870110000-1870119000@harmonybeer.com
SUMMARY:Vinyl Night
DESCRIPTION:Guest Vinyl DJs every thursday 7pm
URL:https://harmonybeer.com/event/vinyl-night/2029-04-05/
END:VEVENT
BEGIN:VEVENT
DTSTART;TZID=America/Detroit:20290408T190000
DTEND;TZID=America/Detroit:20290408T210000
DTSTAMP:20260423T034053
CREATED:20240624T185540Z
LAST-MODIFIED:20240624T185540Z
UID:10204411-1870369200-1870376400@harmonybeer.com
SUMMARY:Trivia Night - Geeks Who Drink
DESCRIPTION:Trivia night with Geeks Who Drink every Sunday 7pm. Compete for Harmony Gift Cards!
URL:https://harmonybeer.com/event/trivia-night-geeks-who-drink/2029-04-08/
END:VEVENT
END:VCALENDAR